BEGIN:VCALENDAR
VERSION:2.0
PRODID:-//Melkoni Media - ECPv6.15.20//NONSGML v1.0//EN
CALSCALE:GREGORIAN
METHOD:PUBLISH
X-WR-CALNAME:Melkoni Media
X-ORIGINAL-URL:https://melkonimedia.com
X-WR-CALDESC:Events for Melkoni Media
REFRESH-INTERVAL;VALUE=DURATION:PT1H
X-Robots-Tag:noindex
X-PUBLISHED-TTL:PT1H
BEGIN:VTIMEZONE
TZID:America/Los_Angeles
BEGIN:DAYLIGHT
TZOFFSETFROM:-0800
TZOFFSETTO:-0700
TZNAME:PDT
DTSTART:20250309T100000
END:DAYLIGHT
BEGIN:STANDARD
TZOFFSETFROM:-0700
TZOFFSETTO:-0800
TZNAME:PST
DTSTART:20251102T090000
END:STANDARD
BEGIN:DAYLIGHT
TZOFFSETFROM:-0800
TZOFFSETTO:-0700
TZNAME:PDT
DTSTART:20260308T100000
END:DAYLIGHT
BEGIN:STANDARD
TZOFFSETFROM:-0700
TZOFFSETTO:-0800
TZNAME:PST
DTSTART:20261101T090000
END:STANDARD
BEGIN:DAYLIGHT
TZOFFSETFROM:-0800
TZOFFSETTO:-0700
TZNAME:PDT
DTSTART:20270314T100000
END:DAYLIGHT
BEGIN:STANDARD
TZOFFSETFROM:-0700
TZOFFSETTO:-0800
TZNAME:PST
DTSTART:20271107T090000
END:STANDARD
END:VTIMEZONE
BEGIN:VEVENT
DTSTART;TZID=America/Los_Angeles:20260111T160000
DTEND;TZID=America/Los_Angeles:20260111T190000
DTSTAMP:20260422T160008
CREATED:20251231T073749Z
LAST-MODIFIED:20251231T073933Z
UID:10000009-1768147200-1768158000@melkonimedia.com
SUMMARY:301 AD RenAIssance Hackathon Pitch Day at HeroHouse
DESCRIPTION:Come watch live pitches and product demos from 301 AD students\, meet founders & entrepreneurs\, and network with the community at Hero House in Glendale!
URL:https://melkonimedia.com/event/301-ad-renaissance-hackathon-pitch-day-at-herohouse/
LOCATION:Hero House\, 326 Mira Loma Ave\, Glendale\, CA\, 91204\, United States
CATEGORIES:community gathering
ATTACH;FMTTYPE=image/jpeg:https://melkonimedia.com/wp-content/uploads/2025/12/IMG_3142.jpeg
END:VEVENT
END:VCALENDAR