BEGIN:VCALENDAR
VERSION:2.0
PRODID:-//Melkoni Media - ECPv6.15.20//NONSGML v1.0//EN
CALSCALE:GREGORIAN
METHOD:PUBLISH
X-ORIGINAL-URL:https://melkonimedia.com
X-WR-CALDESC:Events for Melkoni Media
REFRESH-INTERVAL;VALUE=DURATION:PT1H
X-Robots-Tag:noindex
X-PUBLISHED-TTL:PT1H
BEGIN:VTIMEZONE
TZID:America/Los_Angeles
BEGIN:DAYLIGHT
TZOFFSETFROM:-0800
TZOFFSETTO:-0700
TZNAME:PDT
DTSTART:20250309T100000
END:DAYLIGHT
BEGIN:STANDARD
TZOFFSETFROM:-0700
TZOFFSETTO:-0800
TZNAME:PST
DTSTART:20251102T090000
END:STANDARD
BEGIN:DAYLIGHT
TZOFFSETFROM:-0800
TZOFFSETTO:-0700
TZNAME:PDT
DTSTART:20260308T100000
END:DAYLIGHT
BEGIN:STANDARD
TZOFFSETFROM:-0700
TZOFFSETTO:-0800
TZNAME:PST
DTSTART:20261101T090000
END:STANDARD
BEGIN:DAYLIGHT
TZOFFSETFROM:-0800
TZOFFSETTO:-0700
TZNAME:PDT
DTSTART:20270314T100000
END:DAYLIGHT
BEGIN:STANDARD
TZOFFSETFROM:-0700
TZOFFSETTO:-0800
TZNAME:PST
DTSTART:20271107T090000
END:STANDARD
END:VTIMEZONE
BEGIN:VEVENT
DTSTART;TZID=America/Los_Angeles:20260328T150000
DTEND;TZID=America/Los_Angeles:20260328T210000
DTSTAMP:20260422T092158
CREATED:20260223T213325Z
LAST-MODIFIED:20260223T213325Z
UID:10000065-1774710000-1774731600@melkonimedia.com
SUMMARY:AGBU Sydney Chess Tournament
DESCRIPTION:AGBU Sydney Chess Tournament \nLocation: AGBU Cultural Centre. 2 Yeo Street\, Neutral Bay\nPlayer Check-in: 3:00 PM\nTournament ends: 9:30 PM\nOpen division (all ages): $30\nJunior division (under 16 only): $20\nTickets include food and drink\nSpectators are welcome\nPrizes to be won! \nAll ages and skill levels are welcome. No prior tournament experience required. \n\nOrganized by: Young Professionals of Sydney
URL:https://melkonimedia.com/event/agbu-sydney-chess-tournament/
CATEGORIES:tournament
ATTACH;FMTTYPE=image/png:https://melkonimedia.com/wp-content/uploads/2026/02/Instagram-version-3.png
END:VEVENT
BEGIN:VEVENT
DTSTART;TZID=America/Los_Angeles:20260312T080000
DTEND;TZID=America/Los_Angeles:20260316T170000
DTSTAMP:20260422T092158
CREATED:20260223T212438Z
LAST-MODIFIED:20260223T212438Z
UID:10000063-1773302400-1773680400@melkonimedia.com
SUMMARY:2026 Houston Hoedown by AGBU YP
DESCRIPTION:Welcome to the Hoedown\nYP Houston Hoedown is a three-day social gathering of Armenian young professionals from across North America. The weekend will consist of ten (10) unique events designed to create new friendships in a fun atmosphere while supporting an important cause. \nHosted by the Young Professionals of Houston\, we want to bring everyone together and experience the best of Texas once again in March 2026. \nIf you have any questions\, please send an email to houston@agbuyp.org.
URL:https://melkonimedia.com/event/2026-houston-hoedown-by-agbu-yp/
CATEGORIES:social mixer
ATTACH;FMTTYPE=image/webp:https://melkonimedia.com/wp-content/uploads/2026/02/Houston-Hoedown-Default-Page-1920x1080-2026-scaled.webp
END:VEVENT
BEGIN:VEVENT
DTSTART;TZID=America/Los_Angeles:20260310T180000
DTEND;TZID=America/Los_Angeles:20260310T210000
DTSTAMP:20260422T092158
CREATED:20260223T214713Z
LAST-MODIFIED:20260223T214713Z
UID:10000068-1773165600-1773176400@melkonimedia.com
SUMMARY:GBU Headquarters & AGBU YP Greater New York present Women Shaping the World
DESCRIPTION:In celebration of International Women’s Day\, AGBU Headquarters & AGBU YP Greater New York present Women Shaping the World (WSTW) ✨ \n🗓 Tuesday\, March 10\, 2026\n⏰ 6:30–9:30 PM (EDT)\n📍 AGBU Headquarters\, 55 E 59th St\, NYC \nJoin moderator Alexis Alexanian with panelists Yelena Ambartsumian (AMBART LAW\, Origen) and Talar Sesetyan Sarafian (Aran Wines) for a powerful conversation on navigating adversity\, leading with empathy\, and aligning success with purpose—followed by Q&A and a networking reception. \nEvent Information: https://agbu.org/women-\nshaping-world-wstw-co-hosted-ypgny-2026
URL:https://melkonimedia.com/event/gbu-headquarters-agbu-yp-greater-new-york-present-women-shaping-the-world/
CATEGORIES:panel discussion
ATTACH;FMTTYPE=image/jpeg:https://melkonimedia.com/wp-content/uploads/2026/02/IMG_6323.jpeg
END:VEVENT
BEGIN:VEVENT
DTSTART;TZID=America/Los_Angeles:20260304T190000
DTEND;TZID=America/Los_Angeles:20260304T220000
DTSTAMP:20260422T092158
CREATED:20260223T211643Z
LAST-MODIFIED:20260223T211643Z
UID:10000061-1772650800-1772661600@melkonimedia.com
SUMMARY:International Women’s Day Panel Discussion with AGBU YP Toronto
DESCRIPTION:Celebrating International Women’s Day with a Panel Discussion.\nWellness\, Wisdom & Real Talk : Armenian Women In Conversation. \n\nOrganized by: AGBU Toronto Chapter
URL:https://melkonimedia.com/event/international-womens-day-panel-discussion-with-agbu-yp-toronto/
CATEGORIES:panel discussion
ATTACH;FMTTYPE=image/jpeg:https://melkonimedia.com/wp-content/uploads/2026/02/AGBU-IWD-2026-flyer_0-scaled.jpg
END:VEVENT
BEGIN:VEVENT
DTSTART;TZID=America/Los_Angeles:20260227T190000
DTEND;TZID=America/Los_Angeles:20260227T233000
DTSTAMP:20260422T092158
CREATED:20260223T211200Z
LAST-MODIFIED:20260223T211200Z
UID:10000060-1772218800-1772235000@melkonimedia.com
SUMMARY:An Evening at Mayrik in Toronto by AGBU YP
DESCRIPTION:The AGBU YP Toronto is hosting an “An Evening at Mayrik”! Join us on February 27 at Mayrik Toronto for the first social of 2026! Bring your friends and enjoy some drinks\, food and great company! See you there! \n\nOrganized by: Young Professionals of Toronto
URL:https://melkonimedia.com/event/an-evening-at-mayrik-in-toronto-by-agbu-yp/
LOCATION:Mayrik restaurant
CATEGORIES:social mixer
ATTACH;FMTTYPE=image/webp:https://melkonimedia.com/wp-content/uploads/2026/02/NetworkingSocialGathering_SocialConversation_Conversing_1-scaled.webp
END:VEVENT
BEGIN:VEVENT
DTSTART;TZID=America/Los_Angeles:20260225T190000
DTEND;TZID=America/Los_Angeles:20260225T233000
DTSTAMP:20260422T092158
CREATED:20260223T210832Z
LAST-MODIFIED:20260223T210832Z
UID:10000059-1772046000-1772062200@melkonimedia.com
SUMMARY:YP After Hours in Beirut\, Lebanon
DESCRIPTION:YP After Hours is calling!\nJoin the AGBU Lebanon YPs on Feb 25\, 2026 at 7 PM at Riff Bar & Eatery\, Mar Mikhael for a night of good vibes\, great stories\, and even better company.\nBring your friends\, your after-work mood\, and let’s make it a night to remember. See you there! \n\nOrganized by: AGBU District of LebanonAGBU YP Lebanon
URL:https://melkonimedia.com/event/yp-after-hours-in-beirut-lebanon/
ATTACH;FMTTYPE=image/webp:https://melkonimedia.com/wp-content/uploads/2026/02/NetworkingSocialGathering_AerialShots_WideAerialShot_1-scaled.webp
END:VEVENT
END:VCALENDAR