BEGIN:VCALENDAR
VERSION:2.0
PRODID:-//Melkoni Media - ECPv6.15.20//NONSGML v1.0//EN
CALSCALE:GREGORIAN
METHOD:PUBLISH
X-ORIGINAL-URL:https://melkonimedia.com
X-WR-CALDESC:Events for Melkoni Media
REFRESH-INTERVAL;VALUE=DURATION:PT1H
X-Robots-Tag:noindex
X-PUBLISHED-TTL:PT1H
BEGIN:VTIMEZONE
TZID:America/Los_Angeles
BEGIN:DAYLIGHT
TZOFFSETFROM:-0800
TZOFFSETTO:-0700
TZNAME:PDT
DTSTART:20250309T100000
END:DAYLIGHT
BEGIN:STANDARD
TZOFFSETFROM:-0700
TZOFFSETTO:-0800
TZNAME:PST
DTSTART:20251102T090000
END:STANDARD
BEGIN:DAYLIGHT
TZOFFSETFROM:-0800
TZOFFSETTO:-0700
TZNAME:PDT
DTSTART:20260308T100000
END:DAYLIGHT
BEGIN:STANDARD
TZOFFSETFROM:-0700
TZOFFSETTO:-0800
TZNAME:PST
DTSTART:20261101T090000
END:STANDARD
BEGIN:DAYLIGHT
TZOFFSETFROM:-0800
TZOFFSETTO:-0700
TZNAME:PDT
DTSTART:20270314T100000
END:DAYLIGHT
BEGIN:STANDARD
TZOFFSETFROM:-0700
TZOFFSETTO:-0800
TZNAME:PST
DTSTART:20271107T090000
END:STANDARD
END:VTIMEZONE
BEGIN:VEVENT
DTSTART;TZID=America/Los_Angeles:20260502T080000
DTEND;TZID=America/Los_Angeles:20260502T170000
DTSTAMP:20260422T075339
CREATED:20260408T041627Z
LAST-MODIFIED:20260408T041627Z
UID:10000114-1777708800-1777741200@melkonimedia.com
SUMMARY:AGBU YPGNY Roots & Vines
DESCRIPTION:AGBU YPGNY Roots & Vines – 𝐒𝐀𝐕𝐄 𝐓𝐇𝐄 𝐃𝐀𝐓𝐄🎨 \nWe’re inviting artists of all mediums to be part of this special evening to be held on 𝐌𝐚𝐲 𝟐𝐧𝐝. \nFor more information please visit the link in our bio or apply at https://bit.ly/agbuartists by 𝗔𝗽𝗿𝗶𝗹 𝟭𝟬. \n🖼️: Minas Avetisyan\, 1960\, “Still Life”
URL:https://melkonimedia.com/event/agbu-ypgny-roots-vines/
CATEGORIES:art exhibition
ATTACH;FMTTYPE=image/jpeg:https://melkonimedia.com/wp-content/uploads/2026/04/Screenshot-2026-04-07-211446.jpg
END:VEVENT
BEGIN:VEVENT
DTSTART;TZID=America/Los_Angeles:20260502T190000
DTEND;TZID=America/Los_Angeles:20260502T230000
DTSTAMP:20260422T075339
CREATED:20260413T214436Z
LAST-MODIFIED:20260413T214436Z
UID:10000122-1777748400-1777762800@melkonimedia.com
SUMMARY:ℝ𝕠𝕠𝕥𝕤 & 𝕍𝕚𝕟𝕖𝕤 𝔸𝕣𝕥 𝕊𝕙𝕠𝕨
DESCRIPTION:Where art meets impact — a curated evening of creativity\, community\, and giving back. \nJoin us for YP’s ℝ𝕠𝕠𝕥𝕤 & 𝕍𝕚𝕟𝕖𝕤 𝔸𝕣𝕥 𝕊𝕙𝕠𝕨 to celebrate local artists and bear witness to the story that each piece ignites. \nProceeds from ticket and art sales will benefit 𝐀𝐆𝐁𝐔 𝐂𝐡𝐢𝐥𝐝𝐫𝐞𝐧’𝐬 𝐂𝐞𝐧𝐭𝐞𝐫𝐬 𝐚𝐧𝐝 𝐭𝐡𝐞 𝐀𝐟𝐭𝐞𝐫𝐬𝐜𝐡𝐨𝐨𝐥 𝐑𝐞𝐢𝐦𝐚𝐠𝐢𝐧𝐞𝐝 𝐏𝐫𝐨𝐠𝐫𝐚𝐦\, empowering kids in Nork\, Malatya\, and Arapkir regions in Armenia to build confidence\, nurture creativity\, and thrive 🖍️ \n🗓️May 2nd\n⏱️Time: 7-11pm\n📍Location: 225 W 17th st\, new york\, NY 10011\n🎟️Tickets available at the link in bio: $50\n⭐️ Benefitting AGBU’s Children’s Centers and the Afterschool Reimagined Program \n🎶Beats by @jaeku.xyz and @evoleyelove \n🖼️ Sculpture Credit: Yervand Kochar\, “Painting in Space”\, 1931
URL:https://melkonimedia.com/event/%e2%84%9d%f0%9d%95%a0%f0%9d%95%a0%f0%9d%95%a5%f0%9d%95%a4-%f0%9d%95%8d%f0%9d%95%9a%f0%9d%95%9f%f0%9d%95%96%f0%9d%95%a4-%f0%9d%94%b8%f0%9d%95%a3%f0%9d%95%a5-%f0%9d%95%8a%f0%9d%95%99%f0%9d%95%a0/
LOCATION:Ethan Cohen Gallery\, 225 W 17th st\,\, New York\, NY\, 10011
CATEGORIES:art exhibition,fundraiser
ATTACH;FMTTYPE=image/jpeg:https://melkonimedia.com/wp-content/uploads/2026/04/Screenshot-2026-04-13-142706.jpg
END:VEVENT
END:VCALENDAR