BEGIN:VCALENDAR
VERSION:2.0
PRODID:-//Melkoni Media - ECPv6.15.20//NONSGML v1.0//EN
CALSCALE:GREGORIAN
METHOD:PUBLISH
X-WR-CALNAME:Melkoni Media
X-ORIGINAL-URL:https://melkonimedia.com
X-WR-CALDESC:Events for Melkoni Media
REFRESH-INTERVAL;VALUE=DURATION:PT1H
X-Robots-Tag:noindex
X-PUBLISHED-TTL:PT1H
BEGIN:VTIMEZONE
TZID:America/Los_Angeles
BEGIN:DAYLIGHT
TZOFFSETFROM:-0800
TZOFFSETTO:-0700
TZNAME:PDT
DTSTART:20250309T100000
END:DAYLIGHT
BEGIN:STANDARD
TZOFFSETFROM:-0700
TZOFFSETTO:-0800
TZNAME:PST
DTSTART:20251102T090000
END:STANDARD
BEGIN:DAYLIGHT
TZOFFSETFROM:-0800
TZOFFSETTO:-0700
TZNAME:PDT
DTSTART:20260308T100000
END:DAYLIGHT
BEGIN:STANDARD
TZOFFSETFROM:-0700
TZOFFSETTO:-0800
TZNAME:PST
DTSTART:20261101T090000
END:STANDARD
BEGIN:DAYLIGHT
TZOFFSETFROM:-0800
TZOFFSETTO:-0700
TZNAME:PDT
DTSTART:20270314T100000
END:DAYLIGHT
BEGIN:STANDARD
TZOFFSETFROM:-0700
TZOFFSETTO:-0800
TZNAME:PST
DTSTART:20271107T090000
END:STANDARD
END:VTIMEZONE
BEGIN:VEVENT
DTSTART;TZID=America/Los_Angeles:20260502T183000
DTEND;TZID=America/Los_Angeles:20260502T230000
DTSTAMP:20260422T081321
CREATED:20260408T042844Z
LAST-MODIFIED:20260408T042844Z
UID:10000117-1777746600-1777762800@melkonimedia.com
SUMMARY:AIWA Pearl Anniversary Gala
DESCRIPTION:Join AIWA Los Angeles for an elegant gala celebrating 35 years of AIWA and 30 years of AIWA Los Angeles. This Pearl Anniversary evening\, themed “Cultivating a Legacy\,” will bring together members\, leaders\, and friends from across the community during AIWA’s Annual Meeting Weekend. \nWe invite partners and sponsors to be part of this special occasion. Your support helps advance AIWA’s mission of empowering women through education\, leadership\, and service\, while offering meaningful visibility among a dynamic and engaged audience. Sponsorship details are available at the link in bio. \nFor questions\, please email losangeles@aiwainternational.org or contact Nadia Shamsi at (818) 634-9938.
URL:https://melkonimedia.com/event/aiwa-pearl-anniversary-gala/
LOCATION:Reflections Venue\, 109 East Harvard St\, Glendale\, ca
CATEGORIES:gala
ATTACH;FMTTYPE=image/jpeg:https://melkonimedia.com/wp-content/uploads/2026/04/Screenshot-2026-04-07-212544.jpg
ORGANIZER;CN="AIWA LA":MAILTO:losangeles@aiwainternational.org
END:VEVENT
END:VCALENDAR