BEGIN:VCALENDAR
VERSION:2.0
PRODID:-//Melkoni Media - ECPv6.15.20//NONSGML v1.0//EN
CALSCALE:GREGORIAN
METHOD:PUBLISH
X-WR-CALNAME:Melkoni Media
X-ORIGINAL-URL:https://melkonimedia.com
X-WR-CALDESC:Events for Melkoni Media
REFRESH-INTERVAL;VALUE=DURATION:PT1H
X-Robots-Tag:noindex
X-PUBLISHED-TTL:PT1H
BEGIN:VTIMEZONE
TZID:America/Los_Angeles
BEGIN:DAYLIGHT
TZOFFSETFROM:-0800
TZOFFSETTO:-0700
TZNAME:PDT
DTSTART:20250309T100000
END:DAYLIGHT
BEGIN:STANDARD
TZOFFSETFROM:-0700
TZOFFSETTO:-0800
TZNAME:PST
DTSTART:20251102T090000
END:STANDARD
BEGIN:DAYLIGHT
TZOFFSETFROM:-0800
TZOFFSETTO:-0700
TZNAME:PDT
DTSTART:20260308T100000
END:DAYLIGHT
BEGIN:STANDARD
TZOFFSETFROM:-0700
TZOFFSETTO:-0800
TZNAME:PST
DTSTART:20261101T090000
END:STANDARD
BEGIN:DAYLIGHT
TZOFFSETFROM:-0800
TZOFFSETTO:-0700
TZNAME:PDT
DTSTART:20270314T100000
END:DAYLIGHT
BEGIN:STANDARD
TZOFFSETFROM:-0700
TZOFFSETTO:-0800
TZNAME:PST
DTSTART:20271107T090000
END:STANDARD
END:VTIMEZONE
BEGIN:VEVENT
DTSTART;TZID=America/Los_Angeles:20260417T180000
DTEND;TZID=America/Los_Angeles:20260417T233000
DTSTAMP:20260422T111430
CREATED:20260413T212626Z
LAST-MODIFIED:20260413T212626Z
UID:10000121-1776448800-1776468600@melkonimedia.com
SUMMARY:Spring Mixer! Blossoms & Beginnings
DESCRIPTION:Join us a week from today – Friday\, April 17th for our Spring Mixer! Blossoms & Beginnings\, bringing together Armenian American professionals\, friends\, and supporters for an evening of meaningful connections and networking. \nDate: Friday\, April 17th\nTime: 6:00 PM – 9:00 PM\nLocation: Mission Dupont (Upper Loft) \nFor more information\, contact networking@anca.org
URL:https://melkonimedia.com/event/spring-mixer-blossoms-beginnings/
LOCATION:MIssion Dupont\, 1606 20th St NW\, Upper Loft\, Washington\, DC\, 20009
CATEGORIES:Networking,social mixer
ATTACH;FMTTYPE=image/jpeg:https://melkonimedia.com/wp-content/uploads/2026/04/Screenshot-2026-04-13-142145.jpg
ORGANIZER;CN="anca":MAILTO:anca@anca.org
END:VEVENT
END:VCALENDAR