BEGIN:VCALENDAR
VERSION:2.0
PRODID:-//Melkoni Media - ECPv6.15.20//NONSGML v1.0//EN
CALSCALE:GREGORIAN
METHOD:PUBLISH
X-ORIGINAL-URL:https://melkonimedia.com
X-WR-CALDESC:Events for Melkoni Media
REFRESH-INTERVAL;VALUE=DURATION:PT1H
X-Robots-Tag:noindex
X-PUBLISHED-TTL:PT1H
BEGIN:VTIMEZONE
TZID:America/Los_Angeles
BEGIN:DAYLIGHT
TZOFFSETFROM:-0800
TZOFFSETTO:-0700
TZNAME:PDT
DTSTART:20250309T100000
END:DAYLIGHT
BEGIN:STANDARD
TZOFFSETFROM:-0700
TZOFFSETTO:-0800
TZNAME:PST
DTSTART:20251102T090000
END:STANDARD
BEGIN:DAYLIGHT
TZOFFSETFROM:-0800
TZOFFSETTO:-0700
TZNAME:PDT
DTSTART:20260308T100000
END:DAYLIGHT
BEGIN:STANDARD
TZOFFSETFROM:-0700
TZOFFSETTO:-0800
TZNAME:PST
DTSTART:20261101T090000
END:STANDARD
BEGIN:DAYLIGHT
TZOFFSETFROM:-0800
TZOFFSETTO:-0700
TZNAME:PDT
DTSTART:20270314T100000
END:DAYLIGHT
BEGIN:STANDARD
TZOFFSETFROM:-0700
TZOFFSETTO:-0800
TZNAME:PST
DTSTART:20271107T090000
END:STANDARD
END:VTIMEZONE
BEGIN:VEVENT
DTSTART;TZID=America/Los_Angeles:20260419T140000
DTEND;TZID=America/Los_Angeles:20260419T153000
DTSTAMP:20260422T111545
CREATED:20260408T033203Z
LAST-MODIFIED:20260408T033203Z
UID:10000105-1776607200-1776612600@melkonimedia.com
SUMMARY:Celebrating Armenian Literary Voices
DESCRIPTION:April is Armenian History Month a time to celebrate the rich culture\, stories\, and voices of the Armenian people. In honor of this month\, the Armenian Theatre Company proudly presents \n🎭 Celebrating Armenian Literary Voices\nAn evening of powerful storytelling featuring the works of Tumanyan\, Tekeyan\, and Saroyan. Through poetry\, short plays\, and vivid storytelling\, this production brings the spirit\, humor\, and depth of Armenian literature to life on stage. \n📍Main Event (Free Admission)\nSunday\, April 19\, 2026\n2:00 – 3:30 PM\n& Central Library – Mark Taper Auditorium\nLos Angeles Public Library \n📍Preview Performances\n° Lark Musical Society Auditorium\nApril 17 & April 18 | 8:00 PM\nTickets: $20 \nTickets available at https://www.itsmyseat.com/caps/\nLink is found on our IG O BIO\nCome celebrate Armenian literature\, theatre\, and culture with us…🎭
URL:https://melkonimedia.com/event/celebrating-armenian-literary-voices/
LOCATION:Mark Taper Auditorium\, Central Library\, 630 W. 5th St\, Los Angeles\, CA\, 90071
CATEGORIES:Performance
ATTACH;FMTTYPE=image/png:https://melkonimedia.com/wp-content/uploads/2026/04/dfdf.png
END:VEVENT
END:VCALENDAR