BEGIN:VCALENDAR
VERSION:2.0
PRODID:-//Melkoni Media - ECPv6.15.20//NONSGML v1.0//EN
CALSCALE:GREGORIAN
METHOD:PUBLISH
X-WR-CALNAME:Melkoni Media
X-ORIGINAL-URL:https://melkonimedia.com
X-WR-CALDESC:Events for Melkoni Media
REFRESH-INTERVAL;VALUE=DURATION:PT1H
X-Robots-Tag:noindex
X-PUBLISHED-TTL:PT1H
BEGIN:VTIMEZONE
TZID:America/Los_Angeles
BEGIN:DAYLIGHT
TZOFFSETFROM:-0800
TZOFFSETTO:-0700
TZNAME:PDT
DTSTART:20250309T100000
END:DAYLIGHT
BEGIN:STANDARD
TZOFFSETFROM:-0700
TZOFFSETTO:-0800
TZNAME:PST
DTSTART:20251102T090000
END:STANDARD
BEGIN:DAYLIGHT
TZOFFSETFROM:-0800
TZOFFSETTO:-0700
TZNAME:PDT
DTSTART:20260308T100000
END:DAYLIGHT
BEGIN:STANDARD
TZOFFSETFROM:-0700
TZOFFSETTO:-0800
TZNAME:PST
DTSTART:20261101T090000
END:STANDARD
BEGIN:DAYLIGHT
TZOFFSETFROM:-0800
TZOFFSETTO:-0700
TZNAME:PDT
DTSTART:20270314T100000
END:DAYLIGHT
BEGIN:STANDARD
TZOFFSETFROM:-0700
TZOFFSETTO:-0800
TZNAME:PST
DTSTART:20271107T090000
END:STANDARD
END:VTIMEZONE
BEGIN:VEVENT
DTSTART;TZID=America/Los_Angeles:20260421T120000
DTEND;TZID=America/Los_Angeles:20260421T133000
DTSTAMP:20260422T092033
CREATED:20260413T222356Z
LAST-MODIFIED:20260413T222356Z
UID:10000130-1776772800-1776778200@melkonimedia.com
SUMMARY:Petals to Remember
DESCRIPTION:Join us this Armenian History Month as we honor resilience\, remembrance\, and culture. Learn the powerful meaning behind the forget-me-not flower and explore the rich history of the Armenian people. \n🗓 Tuesday\, April 21\n⏰ 12 to 1:30 PM\n📍 Student Center 212 \nCome for the history\, stay for the community\, and don’t forget to make your own forget-me-not flower 💜
URL:https://melkonimedia.com/event/petals-to-remember/
LOCATION:Glendale Community College GCC\, 1500 N Verdugo Rd\, Student Center 212\, Glendale\, CA\, 91208
CATEGORIES:community gathering,lecture
ATTACH;FMTTYPE=image/jpeg:https://melkonimedia.com/wp-content/uploads/2026/04/Screenshot-2026-04-13-152017.jpg
END:VEVENT
END:VCALENDAR