BEGIN:VCALENDAR
VERSION:2.0
PRODID:-//Melkoni Media - ECPv6.15.20//NONSGML v1.0//EN
CALSCALE:GREGORIAN
METHOD:PUBLISH
X-WR-CALNAME:Melkoni Media
X-ORIGINAL-URL:https://melkonimedia.com
X-WR-CALDESC:Events for Melkoni Media
REFRESH-INTERVAL;VALUE=DURATION:PT1H
X-Robots-Tag:noindex
X-PUBLISHED-TTL:PT1H
BEGIN:VTIMEZONE
TZID:America/Los_Angeles
BEGIN:DAYLIGHT
TZOFFSETFROM:-0800
TZOFFSETTO:-0700
TZNAME:PDT
DTSTART:20250309T100000
END:DAYLIGHT
BEGIN:STANDARD
TZOFFSETFROM:-0700
TZOFFSETTO:-0800
TZNAME:PST
DTSTART:20251102T090000
END:STANDARD
BEGIN:DAYLIGHT
TZOFFSETFROM:-0800
TZOFFSETTO:-0700
TZNAME:PDT
DTSTART:20260308T100000
END:DAYLIGHT
BEGIN:STANDARD
TZOFFSETFROM:-0700
TZOFFSETTO:-0800
TZNAME:PST
DTSTART:20261101T090000
END:STANDARD
BEGIN:DAYLIGHT
TZOFFSETFROM:-0800
TZOFFSETTO:-0700
TZNAME:PDT
DTSTART:20270314T100000
END:DAYLIGHT
BEGIN:STANDARD
TZOFFSETFROM:-0700
TZOFFSETTO:-0800
TZNAME:PST
DTSTART:20271107T090000
END:STANDARD
END:VTIMEZONE
BEGIN:VEVENT
DTSTART;TZID=America/Los_Angeles:20260424T140000
DTEND;TZID=America/Los_Angeles:20260424T170000
DTSTAMP:20260422T063324
CREATED:20260422T051447Z
LAST-MODIFIED:20260422T051447Z
UID:10000138-1777039200-1777050000@melkonimedia.com
SUMMARY:A March for Rememberance
DESCRIPTION:Genocide March
URL:https://melkonimedia.com/event/a-march-for-rememberance/
LOCATION:La Cienega Park\, 8400 Gregory Way\, Beverly Hills\, ca\, 90211
CATEGORIES:Activism,March
ATTACH;FMTTYPE=image/jpeg:https://melkonimedia.com/wp-content/uploads/2026/04/Screenshot-2026-04-21-221150.jpg
END:VEVENT
BEGIN:VEVENT
DTSTART;TZID=America/Los_Angeles:20260425T190000
DTEND;TZID=America/Los_Angeles:20260425T223000
DTSTAMP:20260422T063324
CREATED:20260422T051808Z
LAST-MODIFIED:20260422T051808Z
UID:10000139-1777143600-1777156200@melkonimedia.com
SUMMARY:Louder Than Lies Social Benefit Concert
DESCRIPTION:Louder Than Lies Social Benefit Concert
URL:https://melkonimedia.com/event/louder-than-lies-social-benefit-concert/
LOCATION:beTRUE Los Angeles\, 7225 W Sunset Blvd\, Los Angeles\, ca\, 90046
CATEGORIES:Activism,Music,Performance
ATTACH;FMTTYPE=image/jpeg:https://melkonimedia.com/wp-content/uploads/2026/04/Screenshot-2026-04-21-221516.jpg
END:VEVENT
BEGIN:VEVENT
DTSTART;TZID=America/Los_Angeles:20260524T190000
DTEND;TZID=America/Los_Angeles:20260524T233000
DTSTAMP:20260422T063324
CREATED:20260408T033923Z
LAST-MODIFIED:20260408T033923Z
UID:10000107-1779649200-1779665400@melkonimedia.com
SUMMARY:The All Star Barahantes
DESCRIPTION:A night of reunions and new connections\, legendary musicians\, and a dance floor that won’t stop. Make sure to get the Earlybird Special by April 1st💫
URL:https://melkonimedia.com/event/the-all-star-barahantes/
LOCATION:Bagramian Hall\, 900 W Lincoln Ave\, Montebello\, ca\, 90640
CATEGORIES:Dance,Performance
ATTACH;FMTTYPE=image/png:https://melkonimedia.com/wp-content/uploads/2026/04/dff.png
END:VEVENT
END:VCALENDAR