BEGIN:VCALENDAR
VERSION:2.0
PRODID:-//Melkoni Media - ECPv6.15.20//NONSGML v1.0//EN
CALSCALE:GREGORIAN
METHOD:PUBLISH
X-ORIGINAL-URL:https://melkonimedia.com
X-WR-CALDESC:Events for Melkoni Media
REFRESH-INTERVAL;VALUE=DURATION:PT1H
X-Robots-Tag:noindex
X-PUBLISHED-TTL:PT1H
BEGIN:VTIMEZONE
TZID:America/Los_Angeles
BEGIN:DAYLIGHT
TZOFFSETFROM:-0800
TZOFFSETTO:-0700
TZNAME:PDT
DTSTART:20250309T100000
END:DAYLIGHT
BEGIN:STANDARD
TZOFFSETFROM:-0700
TZOFFSETTO:-0800
TZNAME:PST
DTSTART:20251102T090000
END:STANDARD
BEGIN:DAYLIGHT
TZOFFSETFROM:-0800
TZOFFSETTO:-0700
TZNAME:PDT
DTSTART:20260308T100000
END:DAYLIGHT
BEGIN:STANDARD
TZOFFSETFROM:-0700
TZOFFSETTO:-0800
TZNAME:PST
DTSTART:20261101T090000
END:STANDARD
BEGIN:DAYLIGHT
TZOFFSETFROM:-0800
TZOFFSETTO:-0700
TZNAME:PDT
DTSTART:20270314T100000
END:DAYLIGHT
BEGIN:STANDARD
TZOFFSETFROM:-0700
TZOFFSETTO:-0800
TZNAME:PST
DTSTART:20271107T090000
END:STANDARD
END:VTIMEZONE
BEGIN:VEVENT
DTSTART;TZID=America/Los_Angeles:20260516T190000
DTEND;TZID=America/Los_Angeles:20260516T230000
DTSTAMP:20260422T075121
CREATED:20260408T042053Z
LAST-MODIFIED:20260408T042053Z
UID:10000115-1778958000-1778972400@melkonimedia.com
SUMMARY:ARMENIAN KINGS OF COMEDY VOL. 2
DESCRIPTION:LA….. ARE YOU READY?\nThe stage is set for a night of pure comedy🔥\nThe laughs will be loud. The energy will be unmatched. Featuring the best in the game:\n🎤Vahe Berberian\n🎤Kev Orkian\n🎤Antic\n🎤Jack Jr.\n🎤Armen Darbinyan\nFive powerhouse comedians. One unforgettable night. \n🎟️Tickets won’t last… lock yours in NOW.\n📆May 16 | 7 pm\n☎️ 818-265-0506
URL:https://melkonimedia.com/event/armenian-kings-of-comedy-vol-2/
LOCATION:alex theatre
CATEGORIES:Comedy
ATTACH;FMTTYPE=image/jpeg:https://melkonimedia.com/wp-content/uploads/2026/04/Screenshot-2026-04-07-211641.jpg
END:VEVENT
END:VCALENDAR