BEGIN:VCALENDAR
VERSION:2.0
PRODID:-//Melkoni Media - ECPv6.15.20//NONSGML v1.0//EN
CALSCALE:GREGORIAN
METHOD:PUBLISH
X-WR-CALNAME:Melkoni Media
X-ORIGINAL-URL:https://melkonimedia.com
X-WR-CALDESC:Events for Melkoni Media
REFRESH-INTERVAL;VALUE=DURATION:PT1H
X-Robots-Tag:noindex
X-PUBLISHED-TTL:PT1H
BEGIN:VTIMEZONE
TZID:America/Los_Angeles
BEGIN:DAYLIGHT
TZOFFSETFROM:-0800
TZOFFSETTO:-0700
TZNAME:PDT
DTSTART:20250309T100000
END:DAYLIGHT
BEGIN:STANDARD
TZOFFSETFROM:-0700
TZOFFSETTO:-0800
TZNAME:PST
DTSTART:20251102T090000
END:STANDARD
BEGIN:DAYLIGHT
TZOFFSETFROM:-0800
TZOFFSETTO:-0700
TZNAME:PDT
DTSTART:20260308T100000
END:DAYLIGHT
BEGIN:STANDARD
TZOFFSETFROM:-0700
TZOFFSETTO:-0800
TZNAME:PST
DTSTART:20261101T090000
END:STANDARD
BEGIN:DAYLIGHT
TZOFFSETFROM:-0800
TZOFFSETTO:-0700
TZNAME:PDT
DTSTART:20270314T100000
END:DAYLIGHT
BEGIN:STANDARD
TZOFFSETFROM:-0700
TZOFFSETTO:-0800
TZNAME:PST
DTSTART:20271107T090000
END:STANDARD
END:VTIMEZONE
BEGIN:VEVENT
DTSTART;TZID=America/Los_Angeles:20260509T190000
DTEND;TZID=America/Los_Angeles:20260510T000000
DTSTAMP:20260422T075024
CREATED:20260408T031837Z
LAST-MODIFIED:20260408T032025Z
UID:10000103-1778353200-1778371200@melkonimedia.com
SUMMARY:Genätz
DESCRIPTION:After our first sold out show\, we’ve been working on something special for our return. Mark your calendars for May 9th because Genätz is back in town and we’re bringing the event closer to you: GLENDALE. Our new venue is outdoors and just in time to enjoy the spring air together. \nKaragusi makes her return to Genätz as a headliner with support from @tootallmusic and @martywolf.music \n@rubyvartan will have an exciting new live art installation and work for sale at the event! \nMusic and art are our staples but we’re also providing hookah catering by @elementhookahcatering as well as food by @thepizzeriafactoryusa \nMore details coming soon\,\nGenätz 🥂
URL:https://melkonimedia.com/event/genatz/
LOCATION:parc 3030\, 3030 Dolores St\, Glassell Park\, 90065\, United States
CATEGORIES:art exhibition,social mixer
ATTACH;FMTTYPE=image/avif:https://melkonimedia.com/wp-content/uploads/2026/04/69d451788e3721cf6959b12a.avif
END:VEVENT
END:VCALENDAR