BEGIN:VCALENDAR
VERSION:2.0
PRODID:-//Melkoni Media - ECPv6.15.20//NONSGML v1.0//EN
CALSCALE:GREGORIAN
METHOD:PUBLISH
X-ORIGINAL-URL:https://melkonimedia.com
X-WR-CALDESC:Events for Melkoni Media
REFRESH-INTERVAL;VALUE=DURATION:PT1H
X-Robots-Tag:noindex
X-PUBLISHED-TTL:PT1H
BEGIN:VTIMEZONE
TZID:America/Los_Angeles
BEGIN:DAYLIGHT
TZOFFSETFROM:-0800
TZOFFSETTO:-0700
TZNAME:PDT
DTSTART:20250309T100000
END:DAYLIGHT
BEGIN:STANDARD
TZOFFSETFROM:-0700
TZOFFSETTO:-0800
TZNAME:PST
DTSTART:20251102T090000
END:STANDARD
BEGIN:DAYLIGHT
TZOFFSETFROM:-0800
TZOFFSETTO:-0700
TZNAME:PDT
DTSTART:20260308T100000
END:DAYLIGHT
BEGIN:STANDARD
TZOFFSETFROM:-0700
TZOFFSETTO:-0800
TZNAME:PST
DTSTART:20261101T090000
END:STANDARD
BEGIN:DAYLIGHT
TZOFFSETFROM:-0800
TZOFFSETTO:-0700
TZNAME:PDT
DTSTART:20270314T100000
END:DAYLIGHT
BEGIN:STANDARD
TZOFFSETFROM:-0700
TZOFFSETTO:-0800
TZNAME:PST
DTSTART:20271107T090000
END:STANDARD
END:VTIMEZONE
BEGIN:VEVENT
DTSTART;TZID=America/Los_Angeles:20260202T190000
DTEND;TZID=America/Los_Angeles:20260202T220000
DTSTAMP:20260422T125212
CREATED:20260202T201330Z
LAST-MODIFIED:20260202T201330Z
UID:10000042-1770058800-1770069600@melkonimedia.com
SUMMARY:Hamazkayin WRLJ presents film screening of Tevanik and Q&A
DESCRIPTION:Hamazkayin WR Literary Junior “Nor Shounch” presents film screening of Tevanik and Q&A with Jivan Avetisyan on Monday\, February 2\, 2026\, at 7:00 PM at Hamazkayin Aris Stambolian Cultural Center “Alice Bezjian” Hall 1524 Cañada Blvd. Glendale\, CA 91208 (2nd floor). Free.The film is about the consequences of war; an incomplete childhood\, the regret for the shattering of life and the beauty of rediscovered values.Limited on-site parking and plenty of street parking.
URL:https://melkonimedia.com/event/hamazkayin-wrlj-presents-film-screening-of-tevanik-and-qa/
CATEGORIES:film screening
ATTACH;FMTTYPE=image/jpeg:https://melkonimedia.com/wp-content/uploads/2026/02/44B633F6-CEB6-4960-AB30-C0A8D3634A1B-1.jpg
END:VEVENT
END:VCALENDAR