BEGIN:VCALENDAR
VERSION:2.0
PRODID:-//Melkoni Media - ECPv6.15.20//NONSGML v1.0//EN
CALSCALE:GREGORIAN
METHOD:PUBLISH
X-ORIGINAL-URL:https://melkonimedia.com
X-WR-CALDESC:Events for Melkoni Media
REFRESH-INTERVAL;VALUE=DURATION:PT1H
X-Robots-Tag:noindex
X-PUBLISHED-TTL:PT1H
BEGIN:VTIMEZONE
TZID:America/Los_Angeles
BEGIN:DAYLIGHT
TZOFFSETFROM:-0800
TZOFFSETTO:-0700
TZNAME:PDT
DTSTART:20250309T100000
END:DAYLIGHT
BEGIN:STANDARD
TZOFFSETFROM:-0700
TZOFFSETTO:-0800
TZNAME:PST
DTSTART:20251102T090000
END:STANDARD
BEGIN:DAYLIGHT
TZOFFSETFROM:-0800
TZOFFSETTO:-0700
TZNAME:PDT
DTSTART:20260308T100000
END:DAYLIGHT
BEGIN:STANDARD
TZOFFSETFROM:-0700
TZOFFSETTO:-0800
TZNAME:PST
DTSTART:20261101T090000
END:STANDARD
BEGIN:DAYLIGHT
TZOFFSETFROM:-0800
TZOFFSETTO:-0700
TZNAME:PDT
DTSTART:20270314T100000
END:DAYLIGHT
BEGIN:STANDARD
TZOFFSETFROM:-0700
TZOFFSETTO:-0800
TZNAME:PST
DTSTART:20271107T090000
END:STANDARD
END:VTIMEZONE
BEGIN:VEVENT
DTSTART;TZID=America/Los_Angeles:20260530T170000
DTEND;TZID=America/Los_Angeles:20260530T230000
DTSTAMP:20260422T093701
CREATED:20260413T215444Z
LAST-MODIFIED:20260413T215444Z
UID:10000124-1780160400-1780182000@melkonimedia.com
SUMMARY:Sip & Savor Under the Stars — Simi Valley
DESCRIPTION:Sip\, Savor\, and Support Something Bigger — May 30\, 2026 ✨ \nFor over six decades\, Hye Camp has been a cornerstone of the Armenian community—where lifelong friendships are formed and unforgettable memories are made. \nNow\, we’re continuing our Capital Improvements projects\, with a focus on a much-needed kitchen renovation. \n✨ Sip & Savor Under the Stars — Simi Valley \n🍽 Culinary Experience by @bahr.la + @cheftravismatoesian\n🍷 Armenian wines with @stepan_my_story @mywineplus @winesofarmenia_com @domaineabaci @abacimama @tequilamandala + spirits\, beer & cigars\n🎶 Live music by @elementband\n🖼 Silent auction featuring @jackjrcomic @arazada @garocigars \n📅 May 30\, 2026\n⏳ RSVP by May 8 — limited space \nAll proceeds will go directly toward the kitchen renovation. \n✨ We can’t wait to celebrate with you under the stars.
URL:https://melkonimedia.com/event/sip-savor-under-the-stars-simi-valley/
CATEGORIES:fundraiser,gala
ATTACH;FMTTYPE=image/jpeg:https://melkonimedia.com/wp-content/uploads/2026/04/Screenshot-2026-04-13-145102.jpg
END:VEVENT
END:VCALENDAR