BEGIN:VCALENDAR
VERSION:2.0
PRODID:-//Melkoni Media - ECPv6.15.20//NONSGML v1.0//EN
CALSCALE:GREGORIAN
METHOD:PUBLISH
X-ORIGINAL-URL:https://melkonimedia.com
X-WR-CALDESC:Events for Melkoni Media
REFRESH-INTERVAL;VALUE=DURATION:PT1H
X-Robots-Tag:noindex
X-PUBLISHED-TTL:PT1H
BEGIN:VTIMEZONE
TZID:America/Los_Angeles
BEGIN:DAYLIGHT
TZOFFSETFROM:-0800
TZOFFSETTO:-0700
TZNAME:PDT
DTSTART:20250309T100000
END:DAYLIGHT
BEGIN:STANDARD
TZOFFSETFROM:-0700
TZOFFSETTO:-0800
TZNAME:PST
DTSTART:20251102T090000
END:STANDARD
BEGIN:DAYLIGHT
TZOFFSETFROM:-0800
TZOFFSETTO:-0700
TZNAME:PDT
DTSTART:20260308T100000
END:DAYLIGHT
BEGIN:STANDARD
TZOFFSETFROM:-0700
TZOFFSETTO:-0800
TZNAME:PST
DTSTART:20261101T090000
END:STANDARD
BEGIN:DAYLIGHT
TZOFFSETFROM:-0800
TZOFFSETTO:-0700
TZNAME:PDT
DTSTART:20270314T100000
END:DAYLIGHT
BEGIN:STANDARD
TZOFFSETFROM:-0700
TZOFFSETTO:-0800
TZNAME:PST
DTSTART:20271107T090000
END:STANDARD
END:VTIMEZONE
BEGIN:VEVENT
DTSTART;TZID=America/Los_Angeles:20260422T193000
DTEND;TZID=America/Los_Angeles:20260422T233000
DTSTAMP:20260422T063543
CREATED:20260413T220826Z
LAST-MODIFIED:20260413T220826Z
UID:10000126-1776886200-1776900600@melkonimedia.com
SUMMARY:Symbols of Eternity
DESCRIPTION:Sacred Geometry in Armenian Carpets \nWhat if Armenian carpets were not decoration\, but language? Symbols of Eternity reveals the hidden geometry\, belief\, and memory woven into Armenian textile arts. Talk Series #4 of 6 April 22 | LARK Cultural Center
URL:https://melkonimedia.com/event/symbols-of-eternity/
LOCATION:LARK Cultural Center\, 543 Arden Ave\, Glendale\, ca
CATEGORIES:lecture,masterclass
ATTACH;FMTTYPE=image/jpeg:https://melkonimedia.com/wp-content/uploads/2026/04/Screenshot-2026-04-13-145943.jpg
END:VEVENT
END:VCALENDAR