BEGIN:VCALENDAR
VERSION:2.0
PRODID:-//Melkoni Media - ECPv6.15.20//NONSGML v1.0//EN
CALSCALE:GREGORIAN
METHOD:PUBLISH
X-ORIGINAL-URL:https://melkonimedia.com
X-WR-CALDESC:Events for Melkoni Media
REFRESH-INTERVAL;VALUE=DURATION:PT1H
X-Robots-Tag:noindex
X-PUBLISHED-TTL:PT1H
BEGIN:VTIMEZONE
TZID:America/Los_Angeles
BEGIN:DAYLIGHT
TZOFFSETFROM:-0800
TZOFFSETTO:-0700
TZNAME:PDT
DTSTART:20250309T100000
END:DAYLIGHT
BEGIN:STANDARD
TZOFFSETFROM:-0700
TZOFFSETTO:-0800
TZNAME:PST
DTSTART:20251102T090000
END:STANDARD
BEGIN:DAYLIGHT
TZOFFSETFROM:-0800
TZOFFSETTO:-0700
TZNAME:PDT
DTSTART:20260308T100000
END:DAYLIGHT
BEGIN:STANDARD
TZOFFSETFROM:-0700
TZOFFSETTO:-0800
TZNAME:PST
DTSTART:20261101T090000
END:STANDARD
BEGIN:DAYLIGHT
TZOFFSETFROM:-0800
TZOFFSETTO:-0700
TZNAME:PDT
DTSTART:20270314T100000
END:DAYLIGHT
BEGIN:STANDARD
TZOFFSETFROM:-0700
TZOFFSETTO:-0800
TZNAME:PST
DTSTART:20271107T090000
END:STANDARD
END:VTIMEZONE
BEGIN:VEVENT
DTSTART;TZID=America/Los_Angeles:20260426T173000
DTEND;TZID=America/Los_Angeles:20260426T223000
DTSTAMP:20260422T063626
CREATED:20260413T215031Z
LAST-MODIFIED:20260413T215031Z
UID:10000123-1777224600-1777242600@melkonimedia.com
SUMMARY:Trivia Sunday
DESCRIPTION:Pull up with your smartest crew… or meet your new one there. Let’s see who really knows their stuff. \nSerovSocialClub Trivia Sunday\, \nCalling all 24+\, whether you’re coupled up or flying solo\, it’s time to show off that big brain energy. \n5:30 PM\, drinks + mingling 6:00 PM\, trivia kicks off. \n$45 entry fee includes 1 drink\, appetizers\, and trivia fun. \nAttire is warm dressy casual\, and space is limited.
URL:https://melkonimedia.com/event/trivia-sunday/
LOCATION:momed restaurant\, 3245 Casitas Ave\, Atwater Village\, CA\, 90039\, United States
CATEGORIES:game night,social mixer
ATTACH;FMTTYPE=image/jpeg:https://melkonimedia.com/wp-content/uploads/2026/04/666174755_1639562720617114_3295002014616639563_n.jpg
END:VEVENT
END:VCALENDAR