BEGIN:VCALENDAR
VERSION:2.0
PRODID:-//Melkoni Media - ECPv6.15.20//NONSGML v1.0//EN
CALSCALE:GREGORIAN
METHOD:PUBLISH
X-WR-CALNAME:Melkoni Media
X-ORIGINAL-URL:https://melkonimedia.com
X-WR-CALDESC:Events for Melkoni Media
REFRESH-INTERVAL;VALUE=DURATION:PT1H
X-Robots-Tag:noindex
X-PUBLISHED-TTL:PT1H
BEGIN:VTIMEZONE
TZID:America/Los_Angeles
BEGIN:DAYLIGHT
TZOFFSETFROM:-0800
TZOFFSETTO:-0700
TZNAME:PDT
DTSTART:20250309T100000
END:DAYLIGHT
BEGIN:STANDARD
TZOFFSETFROM:-0700
TZOFFSETTO:-0800
TZNAME:PST
DTSTART:20251102T090000
END:STANDARD
BEGIN:DAYLIGHT
TZOFFSETFROM:-0800
TZOFFSETTO:-0700
TZNAME:PDT
DTSTART:20260308T100000
END:DAYLIGHT
BEGIN:STANDARD
TZOFFSETFROM:-0700
TZOFFSETTO:-0800
TZNAME:PST
DTSTART:20261101T090000
END:STANDARD
BEGIN:DAYLIGHT
TZOFFSETFROM:-0800
TZOFFSETTO:-0700
TZNAME:PDT
DTSTART:20270314T100000
END:DAYLIGHT
BEGIN:STANDARD
TZOFFSETFROM:-0700
TZOFFSETTO:-0800
TZNAME:PST
DTSTART:20271107T090000
END:STANDARD
END:VTIMEZONE
BEGIN:VEVENT
DTSTART;TZID=America/Los_Angeles:20260425T190000
DTEND;TZID=America/Los_Angeles:20260425T233000
DTSTAMP:20260422T063156
CREATED:20260408T032618Z
LAST-MODIFIED:20260408T032618Z
UID:10000104-1777143600-1777159800@melkonimedia.com
SUMMARY:Hint of Armenia
DESCRIPTION:It’s time\, the biggest event of the year is here! 🙌🏻 Get ready for Hint of Armenia 2026 – our biggest cultural show of the year is coming up and you won’t want to miss it! 🇦🇲✨ \nJoin us for a night full of Armenian music\, dance\, food\, and tradition 🎶🍽️\nDinner and desserts will be served as well!
URL:https://melkonimedia.com/event/hint-of-armenia/
LOCATION:UC San Diego\, Ballroom West A
CATEGORIES:gala,Performance
ATTACH;FMTTYPE=image/png:https://melkonimedia.com/wp-content/uploads/2026/04/ucd.png
END:VEVENT
END:VCALENDAR