BEGIN:VCALENDAR
VERSION:2.0
PRODID:-//Melkoni Media - ECPv6.15.20//NONSGML v1.0//EN
CALSCALE:GREGORIAN
METHOD:PUBLISH
X-ORIGINAL-URL:https://melkonimedia.com
X-WR-CALDESC:Events for Melkoni Media
REFRESH-INTERVAL;VALUE=DURATION:PT1H
X-Robots-Tag:noindex
X-PUBLISHED-TTL:PT1H
BEGIN:VTIMEZONE
TZID:America/Los_Angeles
BEGIN:DAYLIGHT
TZOFFSETFROM:-0800
TZOFFSETTO:-0700
TZNAME:PDT
DTSTART:20250309T100000
END:DAYLIGHT
BEGIN:STANDARD
TZOFFSETFROM:-0700
TZOFFSETTO:-0800
TZNAME:PST
DTSTART:20251102T090000
END:STANDARD
BEGIN:DAYLIGHT
TZOFFSETFROM:-0800
TZOFFSETTO:-0700
TZNAME:PDT
DTSTART:20260308T100000
END:DAYLIGHT
BEGIN:STANDARD
TZOFFSETFROM:-0700
TZOFFSETTO:-0800
TZNAME:PST
DTSTART:20261101T090000
END:STANDARD
BEGIN:DAYLIGHT
TZOFFSETFROM:-0800
TZOFFSETTO:-0700
TZNAME:PDT
DTSTART:20270314T100000
END:DAYLIGHT
BEGIN:STANDARD
TZOFFSETFROM:-0700
TZOFFSETTO:-0800
TZNAME:PST
DTSTART:20271107T090000
END:STANDARD
END:VTIMEZONE
BEGIN:VEVENT
DTSTART;TZID=America/Los_Angeles:20260424T120000
DTEND;TZID=America/Los_Angeles:20260424T140000
DTSTAMP:20260422T063236
CREATED:20260408T040926Z
LAST-MODIFIED:20260408T040926Z
UID:10000112-1777032000-1777039200@melkonimedia.com
SUMMARY:Pins for Purpose Bowling
DESCRIPTION:Strike up some fun with us 🎳💙ENTRANCE IS FREE!\nJoin UFit x Illuminate Minds for an unforgettable bowling event in honor of Autism Awareness Month! \nWhether you’re coming to bowl\, hang out\, or just be part of something special\, we can’t wait to see you there 🙌 \nSpots are LIMITED!!! RSVP now to (818) 310-7316
URL:https://melkonimedia.com/event/pins-for-purpose-bowling/
LOCATION:UFit\, 2334 Honolulu Ave\, montrose\, ca\, 91020
CATEGORIES:Bowling,Social Awareness
ATTACH;FMTTYPE=image/jpeg:https://melkonimedia.com/wp-content/uploads/2026/04/Screenshot-2026-04-07-210435.jpg
END:VEVENT
END:VCALENDAR