BEGIN:VCALENDAR
VERSION:2.0
PRODID:-//Melkoni Media - ECPv6.15.20//NONSGML v1.0//EN
CALSCALE:GREGORIAN
METHOD:PUBLISH
X-ORIGINAL-URL:https://melkonimedia.com
X-WR-CALDESC:Events for Melkoni Media
REFRESH-INTERVAL;VALUE=DURATION:PT1H
X-Robots-Tag:noindex
X-PUBLISHED-TTL:PT1H
BEGIN:VTIMEZONE
TZID:America/Los_Angeles
BEGIN:DAYLIGHT
TZOFFSETFROM:-0800
TZOFFSETTO:-0700
TZNAME:PDT
DTSTART:20250309T100000
END:DAYLIGHT
BEGIN:STANDARD
TZOFFSETFROM:-0700
TZOFFSETTO:-0800
TZNAME:PST
DTSTART:20251102T090000
END:STANDARD
BEGIN:DAYLIGHT
TZOFFSETFROM:-0800
TZOFFSETTO:-0700
TZNAME:PDT
DTSTART:20260308T100000
END:DAYLIGHT
BEGIN:STANDARD
TZOFFSETFROM:-0700
TZOFFSETTO:-0800
TZNAME:PST
DTSTART:20261101T090000
END:STANDARD
BEGIN:DAYLIGHT
TZOFFSETFROM:-0800
TZOFFSETTO:-0700
TZNAME:PDT
DTSTART:20270314T100000
END:DAYLIGHT
BEGIN:STANDARD
TZOFFSETFROM:-0700
TZOFFSETTO:-0800
TZNAME:PST
DTSTART:20271107T090000
END:STANDARD
END:VTIMEZONE
BEGIN:VEVENT
DTSTART;TZID=America/Los_Angeles:20260301T130000
DTEND;TZID=America/Los_Angeles:20260301T160000
DTSTAMP:20260422T113213
CREATED:20260223T213843Z
LAST-MODIFIED:20260223T213843Z
UID:10000066-1772370000-1772380800@melkonimedia.com
SUMMARY:Young Visionaries Art Exhibition at Universal Venue in Glendale\, CA
DESCRIPTION:Join us for The Young Visionaries Art Exhibition 🎨 \nThis special showcase celebrates talented young artists from local art schools and independent programs as they share their creativity with the community. \n🗓 Sunday\, March 1st\n⏰ 1:00PM – 4:00PM\n📍 722 W. Broadway\, Glendale\, CA\n🎟 Free Public Event \nCome support the next generation of artists and experience their work in a professional gallery setting at Universal Venue.
URL:https://melkonimedia.com/event/young-visionaries-art-exhibition-at-universal-venue-in-glendale-ca/
CATEGORIES:art exhibition
ATTACH;FMTTYPE=image/jpeg:https://melkonimedia.com/wp-content/uploads/2026/02/IMG_6321.jpeg
END:VEVENT
END:VCALENDAR