BEGIN:VCALENDAR
VERSION:2.0
PRODID:-//Melkoni Media - ECPv6.15.20//NONSGML v1.0//EN
CALSCALE:GREGORIAN
METHOD:PUBLISH
X-ORIGINAL-URL:https://melkonimedia.com
X-WR-CALDESC:Events for Melkoni Media
REFRESH-INTERVAL;VALUE=DURATION:PT1H
X-Robots-Tag:noindex
X-PUBLISHED-TTL:PT1H
BEGIN:VTIMEZONE
TZID:America/Los_Angeles
BEGIN:DAYLIGHT
TZOFFSETFROM:-0800
TZOFFSETTO:-0700
TZNAME:PDT
DTSTART:20250309T100000
END:DAYLIGHT
BEGIN:STANDARD
TZOFFSETFROM:-0700
TZOFFSETTO:-0800
TZNAME:PST
DTSTART:20251102T090000
END:STANDARD
BEGIN:DAYLIGHT
TZOFFSETFROM:-0800
TZOFFSETTO:-0700
TZNAME:PDT
DTSTART:20260308T100000
END:DAYLIGHT
BEGIN:STANDARD
TZOFFSETFROM:-0700
TZOFFSETTO:-0800
TZNAME:PST
DTSTART:20261101T090000
END:STANDARD
BEGIN:DAYLIGHT
TZOFFSETFROM:-0800
TZOFFSETTO:-0700
TZNAME:PDT
DTSTART:20270314T100000
END:DAYLIGHT
BEGIN:STANDARD
TZOFFSETFROM:-0700
TZOFFSETTO:-0800
TZNAME:PST
DTSTART:20271107T090000
END:STANDARD
END:VTIMEZONE
BEGIN:VEVENT
DTSTART;TZID=America/Los_Angeles:20260123T180000
DTEND;TZID=America/Los_Angeles:20260123T210000
DTSTAMP:20260422T125017
CREATED:20260117T171533Z
LAST-MODIFIED:20260117T171533Z
UID:10000024-1769191200-1769202000@melkonimedia.com
SUMMARY:"Hybrid Identity" TEDx Little Armenia at UCS Bing Theatre
DESCRIPTION:TEDx (Technology\, Entertainment\, Design) a global nonprofit dedicated to sharing ideas through short\, powerful talks is coming to the UCS Bing Theatre! USCASA has teamed up with TEDx Yerevan to host TEDx Little Armenia. The theme of the event\, “Hybrid Identities” aims to showcase the diversity of the Armenian experience. This independently organized event will be filled with inspiring speakers and leaders\, carrying Armenian voices into the world. Registration now open.
URL:https://melkonimedia.com/event/hybrid-identity-tedx-little-armenia-at-ucs-bing-theatre/
CATEGORIES:workshop
ATTACH;FMTTYPE=image/jpeg:https://melkonimedia.com/wp-content/uploads/2026/01/IMG_4160.jpeg
END:VEVENT
END:VCALENDAR