BEGIN:VCALENDAR
VERSION:2.0
PRODID:-//Melkoni Media - ECPv6.15.20//NONSGML v1.0//EN
CALSCALE:GREGORIAN
METHOD:PUBLISH
X-WR-CALNAME:Melkoni Media
X-ORIGINAL-URL:https://melkonimedia.com
X-WR-CALDESC:Events for Melkoni Media
REFRESH-INTERVAL;VALUE=DURATION:PT1H
X-Robots-Tag:noindex
X-PUBLISHED-TTL:PT1H
BEGIN:VTIMEZONE
TZID:America/Los_Angeles
BEGIN:DAYLIGHT
TZOFFSETFROM:-0800
TZOFFSETTO:-0700
TZNAME:PDT
DTSTART:20250309T100000
END:DAYLIGHT
BEGIN:STANDARD
TZOFFSETFROM:-0700
TZOFFSETTO:-0800
TZNAME:PST
DTSTART:20251102T090000
END:STANDARD
BEGIN:DAYLIGHT
TZOFFSETFROM:-0800
TZOFFSETTO:-0700
TZNAME:PDT
DTSTART:20260308T100000
END:DAYLIGHT
BEGIN:STANDARD
TZOFFSETFROM:-0700
TZOFFSETTO:-0800
TZNAME:PST
DTSTART:20261101T090000
END:STANDARD
BEGIN:DAYLIGHT
TZOFFSETFROM:-0800
TZOFFSETTO:-0700
TZNAME:PDT
DTSTART:20270314T100000
END:DAYLIGHT
BEGIN:STANDARD
TZOFFSETFROM:-0700
TZOFFSETTO:-0800
TZNAME:PST
DTSTART:20271107T090000
END:STANDARD
END:VTIMEZONE
BEGIN:VEVENT
DTSTART;TZID=America/Los_Angeles:20260531T110000
DTEND;TZID=America/Los_Angeles:20260531T190000
DTSTAMP:20260422T105958
CREATED:20260408T035317Z
LAST-MODIFIED:20260408T035317Z
UID:10000110-1780225200-1780254000@melkonimedia.com
SUMMARY:Second annual AGBU Children’s Day Festival
DESCRIPTION:Second annual AGBU Children’s Day Festival- mark your calendar! Join us for a celebration of World Children’s Day—a vibrant\, large-scale event bringing together hundreds of families for a full day of joy\, laughter\, and community connection. Presented by @agbupg and AGBU Vatche & Tamar Manoukian Performing Arts Center. \nFrom exciting carnival games and immersive interactive experiences to delicious food\, prizes\, and endless entertainment\, this signature celebration is designed to inspire and delight children of all ages. \nDon’t miss this unforgettable day dedicated to honoring the spirit\, creativity\, and happiness of our youngest generation. \nFor inquiries\, email pgchapter@agbu.org or call 626.794.7942
URL:https://melkonimedia.com/event/second-annual-agbu-childrens-day-festival/
LOCATION:AGBU Performing Arts Center\, 2495 E Mountain St\, Pasadena\, 91104\, United States
CATEGORIES:festival
ATTACH;FMTTYPE=image/jpeg:https://melkonimedia.com/wp-content/uploads/2026/04/agbu.jpg
ORGANIZER;CN="AGBU WR":MAILTO:pgchapter@agbu.org
END:VEVENT
END:VCALENDAR