BEGIN:VCALENDAR
VERSION:2.0
PRODID:-//Melkoni Media - ECPv6.15.20//NONSGML v1.0//EN
CALSCALE:GREGORIAN
METHOD:PUBLISH
X-WR-CALNAME:Melkoni Media
X-ORIGINAL-URL:https://melkonimedia.com
X-WR-CALDESC:Events for Melkoni Media
REFRESH-INTERVAL;VALUE=DURATION:PT1H
X-Robots-Tag:noindex
X-PUBLISHED-TTL:PT1H
BEGIN:VTIMEZONE
TZID:America/Los_Angeles
BEGIN:DAYLIGHT
TZOFFSETFROM:-0800
TZOFFSETTO:-0700
TZNAME:PDT
DTSTART:20250309T100000
END:DAYLIGHT
BEGIN:STANDARD
TZOFFSETFROM:-0700
TZOFFSETTO:-0800
TZNAME:PST
DTSTART:20251102T090000
END:STANDARD
BEGIN:DAYLIGHT
TZOFFSETFROM:-0800
TZOFFSETTO:-0700
TZNAME:PDT
DTSTART:20260308T100000
END:DAYLIGHT
BEGIN:STANDARD
TZOFFSETFROM:-0700
TZOFFSETTO:-0800
TZNAME:PST
DTSTART:20261101T090000
END:STANDARD
BEGIN:DAYLIGHT
TZOFFSETFROM:-0800
TZOFFSETTO:-0700
TZNAME:PDT
DTSTART:20270314T100000
END:DAYLIGHT
BEGIN:STANDARD
TZOFFSETFROM:-0700
TZOFFSETTO:-0800
TZNAME:PST
DTSTART:20271107T090000
END:STANDARD
END:VTIMEZONE
BEGIN:VEVENT
DTSTART;TZID=America/Los_Angeles:20260425T160000
DTEND;TZID=America/Los_Angeles:20260425T203000
DTSTAMP:20260422T063409
CREATED:20260422T050004Z
LAST-MODIFIED:20260422T050004Z
UID:10000134-1777132800-1777149000@melkonimedia.com
SUMMARY:Paint & Sip Philantropy
DESCRIPTION:The Homenetmen Hrashq family would like to thank the Alpha Gamma Alpha Beta Chapter at UC Irvine for graciously hosting a paint and sip event\, benefiting the Homenetmen Hrashq Program. We commend this chapter for giving back to the community and supporting individuals of all abilities.
URL:https://melkonimedia.com/event/paint-sip-philantropy/
LOCATION:Ararat Home\, 15105 Mission Hills Rd\, Mission Hills\, ca\, 91345
CATEGORIES:fundraiser,social mixer
ATTACH;FMTTYPE=image/jpeg:https://melkonimedia.com/wp-content/uploads/2026/04/Screenshot-2026-04-21-215633.jpg
END:VEVENT
END:VCALENDAR