BEGIN:VCALENDAR
VERSION:2.0
PRODID:-//Melkoni Media - ECPv6.15.20//NONSGML v1.0//EN
CALSCALE:GREGORIAN
METHOD:PUBLISH
X-ORIGINAL-URL:https://melkonimedia.com
X-WR-CALDESC:Events for Melkoni Media
REFRESH-INTERVAL;VALUE=DURATION:PT1H
X-Robots-Tag:noindex
X-PUBLISHED-TTL:PT1H
BEGIN:VTIMEZONE
TZID:America/Los_Angeles
BEGIN:DAYLIGHT
TZOFFSETFROM:-0800
TZOFFSETTO:-0700
TZNAME:PDT
DTSTART:20250309T100000
END:DAYLIGHT
BEGIN:STANDARD
TZOFFSETFROM:-0700
TZOFFSETTO:-0800
TZNAME:PST
DTSTART:20251102T090000
END:STANDARD
BEGIN:DAYLIGHT
TZOFFSETFROM:-0800
TZOFFSETTO:-0700
TZNAME:PDT
DTSTART:20260308T100000
END:DAYLIGHT
BEGIN:STANDARD
TZOFFSETFROM:-0700
TZOFFSETTO:-0800
TZNAME:PST
DTSTART:20261101T090000
END:STANDARD
BEGIN:DAYLIGHT
TZOFFSETFROM:-0800
TZOFFSETTO:-0700
TZNAME:PDT
DTSTART:20270314T100000
END:DAYLIGHT
BEGIN:STANDARD
TZOFFSETFROM:-0700
TZOFFSETTO:-0800
TZNAME:PST
DTSTART:20271107T090000
END:STANDARD
END:VTIMEZONE
BEGIN:VEVENT
DTSTART;TZID=America/Los_Angeles:20260308T170000
DTEND;TZID=America/Los_Angeles:20260308T210000
DTSTAMP:20260422T111547
CREATED:20260217T170023Z
LAST-MODIFIED:20260217T170045Z
UID:10000055-1772989200-1773003600@melkonimedia.com
SUMMARY:Stories of Armenian Hope in Children's Media with Arpi Krikorian
DESCRIPTION:PLEASE JOIN US AT THIS IMPORTANT EVENT:\nMARCH 8\, 2026 5-8 pm. \nAt Armenian Arts\n250 North Orange St\, Glendale\, CA 91203 \nIn preparation for Armenian Heritage Month\, join usfor Stories of Armenian Hope in Children’s Media\, a powerful and timely presentation led by Producer & Artist Arpi Krikorian. This special event introduces Stories of Armenian Hope\, an educational children’s media initiative designed to teach young learners lessons of resilience\, courage\, compassion\, and humanity through animation\, storytelling\, and interactive media. \nCreated as a meaningful bridge between history\, education\, and creative expression\, The Red Scarf- equips educators\, parents\, librarians\, and cultural leaders with engaging tools to help children understand Armenian history in an age-appropriate\, hopeful\, and empowering way. By focusing not only on remembrance but also on strength\, empathy\, and optimism for the future\, the initiative reframes difficult history into family-friendly narratives that inspire understanding and hope. \nEvent Highlights\n• Presentation of the Stories of Armenian Hope Project — learn how it supports educational programs.\n• Screening of The Red Scarf: A Story of Armenian Hope — the first animated film in the series\, highlighting a true story of compassion and courage during the Armenian Genocide.\n• Introduction to The Red Scarf interactive Graphic Novel – featuring original artwork\, educational resources\, and QR-linked extended learning.\n• Live Q&A with Arpi Krikorian & Twiddle Productions Inc. – discussing creative storytelling\, education\, and cultural preservation.\n• Graphic Novel Signing & Reception — explore resources for schools and libraries and meet the creative team. \nThis event emphasizes the role of artists and storytellers in preserving cultural memory\, while also illuminating a positive path forward for future generations. \nDate & Time: Sunday\, March 8\, 2026 • 5:00 pm
URL:https://melkonimedia.com/event/stories-of-armenian-hope-in-childrens-media-with-arpi-krikorian/
LOCATION:Armenian Arts Center\, 250 N. Orange Street\, Glendale\, CA\, 91209\, United States
CATEGORIES:art exhibition
ATTACH;FMTTYPE=image/jpeg:https://melkonimedia.com/wp-content/uploads/2026/02/IMG_5989.jpeg
END:VEVENT
BEGIN:VEVENT
DTSTART;TZID=America/Los_Angeles:20260227T190000
DTEND;TZID=America/Los_Angeles:20260228T200000
DTSTAMP:20260422T111547
CREATED:20260110T182247Z
LAST-MODIFIED:20260110T182647Z
UID:10000021-1772218800-1772308800@melkonimedia.com
SUMMARY:"Bound by Fire" Art Exhibit by Tro Khayalian & Paola Kassabian at Armenian Arts in Glendale
DESCRIPTION:Tro Khayalian aka “Abstract Tro” will showcase his collaboration with Paola Kassabian\, where ceramics and metal will join forces at the Center of Armenian Arts in Glendale.
URL:https://melkonimedia.com/event/bound-by-fire-art-exhibit-by-tro-khayalian-paola-kassabian-at-armenian-arts-in-glendale/
LOCATION:Armenian Arts Center\, 250 N. Orange Street\, Glendale\, CA\, 91209\, United States
CATEGORIES:art exhibition
ATTACH;FMTTYPE=image/jpeg:https://melkonimedia.com/wp-content/uploads/2026/01/IMG_3850.jpeg
END:VEVENT
BEGIN:VEVENT
DTSTART;TZID=America/Los_Angeles:20260220T190000
DTEND;TZID=America/Los_Angeles:20260221T200000
DTSTAMP:20260422T111547
CREATED:20260217T170431Z
LAST-MODIFIED:20260217T170431Z
UID:10000056-1771614000-1771704000@melkonimedia.com
SUMMARY:Nostalgia Art Exhibition by Davit Mirzoyan at Center of Armenian Arts in Glendale
DESCRIPTION:Join Armenian Art Center for NOSTALGIA\, a powerful solo exhibition by renowned Armenian artist Davit Mirzoyan\, exploring memory\, emotion\, and the timeless beauty of reflection. \nTrained in classical Western and Russian academic traditions\, Mirzoyan earned his BFA in Armenia and later his MFA in the United States\, building an international career with exhibitions across Europe\, Armenia\, and America. His works—held in prestigious public and private collections—are celebrated for their technical excellence\, emotional sensitivity\, and poetic atmosphere. \nThrough subtle color\, refined composition\, and deeply personal themes\, NOSTALGIAinvites viewers to revisit the past as a source of meaning\, warmth\, and artistic inspiration. \nOpening Night: Friday\, February 20\, 2026 | 7 PM – 10 PM \nSecond Day: Saturday\, February 21\, 2026 | 3 PM – 6 PM \nLocation: The Center for Armenian Arts \nAddress: 250 N. Orange Street Glendale\, CA 91203
URL:https://melkonimedia.com/event/nostalgia-art-exhibition-by-davit-mirzoyan-at-center-of-armenian-arts-in-glendale/
LOCATION:Armenian Arts Center\, 250 N. Orange Street\, Glendale\, CA\, 91209\, United States
CATEGORIES:art exhibition
ATTACH;FMTTYPE=image/jpeg:https://melkonimedia.com/wp-content/uploads/2026/02/IMG_5991.jpeg
END:VEVENT
BEGIN:VEVENT
DTSTART;TZID=America/Los_Angeles:20260123T190000
DTEND;TZID=America/Los_Angeles:20260124T180000
DTSTAMP:20260422T111547
CREATED:20260105T035618Z
LAST-MODIFIED:20260105T035618Z
UID:10000014-1769194800-1769277600@melkonimedia.com
SUMMARY:Gago Vardanyan's 20 x 20 Exhibition at Center of Armenian Arts in Glendale
DESCRIPTION:The first exhibition of 2026 curated by renowned artist Gagik “Gago” Vardanyan launches at the Center of Armenian Arts in Glendale on January 23rd & 24th. \nThe exhibition marks the beginning of an ongoing series dedicated to making high quality Armenian arts accessible to the community.
URL:https://melkonimedia.com/event/gago-vardanyans-20-x-20-exhibition-at-center-of-armenian-arts-in-glendale/
LOCATION:Armenian Arts Center\, 250 N. Orange Street\, Glendale\, CA\, 91209\, United States
CATEGORIES:art exhibition
ATTACH;FMTTYPE=image/jpeg:https://melkonimedia.com/wp-content/uploads/2026/01/IMG_3393.jpeg
END:VEVENT
END:VCALENDAR