BEGIN:VCALENDAR
VERSION:2.0
PRODID:-//Melkoni Media - ECPv6.15.20//NONSGML v1.0//EN
CALSCALE:GREGORIAN
METHOD:PUBLISH
X-WR-CALNAME:Melkoni Media
X-ORIGINAL-URL:https://melkonimedia.com
X-WR-CALDESC:Events for Melkoni Media
REFRESH-INTERVAL;VALUE=DURATION:PT1H
X-Robots-Tag:noindex
X-PUBLISHED-TTL:PT1H
BEGIN:VTIMEZONE
TZID:America/Los_Angeles
BEGIN:DAYLIGHT
TZOFFSETFROM:-0800
TZOFFSETTO:-0700
TZNAME:PDT
DTSTART:20250309T100000
END:DAYLIGHT
BEGIN:STANDARD
TZOFFSETFROM:-0700
TZOFFSETTO:-0800
TZNAME:PST
DTSTART:20251102T090000
END:STANDARD
BEGIN:DAYLIGHT
TZOFFSETFROM:-0800
TZOFFSETTO:-0700
TZNAME:PDT
DTSTART:20260308T100000
END:DAYLIGHT
BEGIN:STANDARD
TZOFFSETFROM:-0700
TZOFFSETTO:-0800
TZNAME:PST
DTSTART:20261101T090000
END:STANDARD
BEGIN:DAYLIGHT
TZOFFSETFROM:-0800
TZOFFSETTO:-0700
TZNAME:PDT
DTSTART:20270314T100000
END:DAYLIGHT
BEGIN:STANDARD
TZOFFSETFROM:-0700
TZOFFSETTO:-0800
TZNAME:PST
DTSTART:20271107T090000
END:STANDARD
END:VTIMEZONE
BEGIN:VEVENT
DTSTART;TZID=America/Los_Angeles:20260315T160000
DTEND;TZID=America/Los_Angeles:20260315T190000
DTSTAMP:20260422T125045
CREATED:20260309T165728Z
LAST-MODIFIED:20260309T165728Z
UID:10000076-1773590400-1773601200@melkonimedia.com
SUMMARY:Oscars Watch Party with Armenian Film Society
DESCRIPTION:Join Armenian Film Society on Sunday\, March 15 at The Brandy for our first-ever Oscars Watch Party. \nCheer on Sev Ohanian and Madeline Sharafian as we celebrate a historic year for Armenians at the Academy Awards. Live reactions\, Oscar ballots\, and exclusive prizes. \nFood\, drinks\, and hookah available for purchase. Seating is first-come\, first-served with table placement based on arrival time. Seating with optimal screen views will fill up quickly\, so early arrival is strongly recommended. No dress code\, but it’s the Oscars\, so feel free to dress for the occasion. \nRSVP now and experience the Oscars the way they’re meant to be seen—together. \n📅 Sunday\, March 15 \n⏰ 3pm (Doors)\, 4pm–7pm (Oscars) \n📍 The Brandy on Brand \n🎟 Free entry. RSVPs required.
URL:https://melkonimedia.com/event/oscars-watch-party-with-armenian-film-society/
LOCATION:brandy on brand\, 108 N Brand Blvd\, Glendale\, CA\, 91203\, United States
CATEGORIES:community gathering
ATTACH;FMTTYPE=image/jpeg:https://melkonimedia.com/wp-content/uploads/2026/03/IMG_7449.jpeg
END:VEVENT
END:VCALENDAR