BEGIN:VCALENDAR
VERSION:2.0
PRODID:-//Melkoni Media - ECPv6.15.20//NONSGML v1.0//EN
CALSCALE:GREGORIAN
METHOD:PUBLISH
X-ORIGINAL-URL:https://melkonimedia.com
X-WR-CALDESC:Events for Melkoni Media
REFRESH-INTERVAL;VALUE=DURATION:PT1H
X-Robots-Tag:noindex
X-PUBLISHED-TTL:PT1H
BEGIN:VTIMEZONE
TZID:America/Los_Angeles
BEGIN:DAYLIGHT
TZOFFSETFROM:-0800
TZOFFSETTO:-0700
TZNAME:PDT
DTSTART:20250309T100000
END:DAYLIGHT
BEGIN:STANDARD
TZOFFSETFROM:-0700
TZOFFSETTO:-0800
TZNAME:PST
DTSTART:20251102T090000
END:STANDARD
BEGIN:DAYLIGHT
TZOFFSETFROM:-0800
TZOFFSETTO:-0700
TZNAME:PDT
DTSTART:20260308T100000
END:DAYLIGHT
BEGIN:STANDARD
TZOFFSETFROM:-0700
TZOFFSETTO:-0800
TZNAME:PST
DTSTART:20261101T090000
END:STANDARD
BEGIN:DAYLIGHT
TZOFFSETFROM:-0800
TZOFFSETTO:-0700
TZNAME:PDT
DTSTART:20270314T100000
END:DAYLIGHT
BEGIN:STANDARD
TZOFFSETFROM:-0700
TZOFFSETTO:-0800
TZNAME:PST
DTSTART:20271107T090000
END:STANDARD
END:VTIMEZONE
BEGIN:VEVENT
DTSTART;TZID=America/Los_Angeles:20260226T190000
DTEND;TZID=America/Los_Angeles:20260226T230000
DTSTAMP:20260422T125201
CREATED:20260128T045340Z
LAST-MODIFIED:20260128T045340Z
UID:10000037-1772132400-1772146800@melkonimedia.com
SUMMARY:Music for Unity Presents: Love Between the Notes at Catalina Jazz Club\, LA
DESCRIPTION:A fundraiser concert and intimate evening of timeless love songs from Michael Buble and Charles Aznavour\, featuring the Shell Piano Trio (Shushing Hakobyan\, Lilit Zakaryan\, with guest artists Lusine Navoyan) and award winning singers Joey Niceforo and Sara Papini. \nAll proceeds support the Homecoming: Return to Artsakh International Composition Competition.
URL:https://melkonimedia.com/event/music-for-unity-presents-love-between-the-notes-at-catalina-jazz-club-la/
LOCATION:Catalina Jazz Club\, 6725 Sunset Blvd\, Hollywood\, 90028\, United States
CATEGORIES:concert
ATTACH;FMTTYPE=image/jpeg:https://melkonimedia.com/wp-content/uploads/2026/01/IMG_4971.jpeg
END:VEVENT
END:VCALENDAR