BEGIN:VCALENDAR
VERSION:2.0
PRODID:-//Melkoni Media - ECPv6.15.20//NONSGML v1.0//EN
CALSCALE:GREGORIAN
METHOD:PUBLISH
X-WR-CALNAME:Melkoni Media
X-ORIGINAL-URL:https://melkonimedia.com
X-WR-CALDESC:Events for Melkoni Media
REFRESH-INTERVAL;VALUE=DURATION:PT1H
X-Robots-Tag:noindex
X-PUBLISHED-TTL:PT1H
BEGIN:VTIMEZONE
TZID:America/Los_Angeles
BEGIN:DAYLIGHT
TZOFFSETFROM:-0800
TZOFFSETTO:-0700
TZNAME:PDT
DTSTART:20250309T100000
END:DAYLIGHT
BEGIN:STANDARD
TZOFFSETFROM:-0700
TZOFFSETTO:-0800
TZNAME:PST
DTSTART:20251102T090000
END:STANDARD
BEGIN:DAYLIGHT
TZOFFSETFROM:-0800
TZOFFSETTO:-0700
TZNAME:PDT
DTSTART:20260308T100000
END:DAYLIGHT
BEGIN:STANDARD
TZOFFSETFROM:-0700
TZOFFSETTO:-0800
TZNAME:PST
DTSTART:20261101T090000
END:STANDARD
BEGIN:DAYLIGHT
TZOFFSETFROM:-0800
TZOFFSETTO:-0700
TZNAME:PDT
DTSTART:20270314T100000
END:DAYLIGHT
BEGIN:STANDARD
TZOFFSETFROM:-0700
TZOFFSETTO:-0800
TZNAME:PST
DTSTART:20271107T090000
END:STANDARD
END:VTIMEZONE
BEGIN:VEVENT
DTSTART;TZID=America/Los_Angeles:20260515T190000
DTEND;TZID=America/Los_Angeles:20260515T220000
DTSTAMP:20260422T081442
CREATED:20260422T050609Z
LAST-MODIFIED:20260422T050609Z
UID:10000136-1778871600-1778882400@melkonimedia.com
SUMMARY:Opening Ceremony\, 2026 International Composition Competition
DESCRIPTION:Join us for the Opening Ceremony of the 2026 International Composition Competition: Homecoming — Return to Artsakh. An evening of six original works—Honorable Mentions—bringing together composers and performers from across the world in a shared reflection on heritage\, memory\, and return. \nPerformed by the Terzyan Trio and soprano Kristina Davlatyan\, alongside works by emerging and established composers. \n📍 Glendale Presbyterian Church\n🗓 May 15 | 7:00 PM\n🎟 Free admission — donations appreciated\n✨ Reception to follow \nCome experience the beginning of something meaningful. 
URL:https://melkonimedia.com/event/opening-ceremony-2026-international-composition-competition/
LOCATION:Glendale Presbyterian Church\, 125 S Louise St\, Glendale\, ca\, 91205
CATEGORIES:Cultural Show,Music,Performance
ATTACH;FMTTYPE=image/jpeg:https://melkonimedia.com/wp-content/uploads/2026/04/Screenshot-2026-04-21-220436.jpg
END:VEVENT
BEGIN:VEVENT
DTSTART;TZID=America/Los_Angeles:20260516T190000
DTEND;TZID=America/Los_Angeles:20260516T233000
DTSTAMP:20260422T081442
CREATED:20260422T050400Z
LAST-MODIFIED:20260422T050400Z
UID:10000135-1778958000-1778974200@melkonimedia.com
SUMMARY:Music for Unity\, 2026 International Composition Competition
DESCRIPTION:Join us for the Grand Finale Concert of Homecoming — Return to Artsakh\, where six finalist compositions take the stage in a culminating performance by the Shell Piano Trio. \nThese works represent voices from around the world\, each offering a unique interpretation of home\, loss\, and return. \n📍 Glendale Presbyterian Church\n🗓 May 16 | 7:00 PM\n🎟 Free admission — donations appreciated \nBe there as we celebrate the finalists and close this journey together.
URL:https://melkonimedia.com/event/music-for-unity-2026-international-composition-competition/
LOCATION:Glendale Presbyterian Church\, 125 S Louise St\, Glendale\, ca\, 91205
CATEGORIES:Cultural Show,Music,Performance
ATTACH;FMTTYPE=image/jpeg:https://melkonimedia.com/wp-content/uploads/2026/04/Screenshot-2026-04-21-220026.jpg
END:VEVENT
END:VCALENDAR