BEGIN:VCALENDAR
VERSION:2.0
PRODID:-//Melkoni Media - ECPv6.15.20//NONSGML v1.0//EN
CALSCALE:GREGORIAN
METHOD:PUBLISH
X-WR-CALNAME:Melkoni Media
X-ORIGINAL-URL:https://melkonimedia.com
X-WR-CALDESC:Events for Melkoni Media
REFRESH-INTERVAL;VALUE=DURATION:PT1H
X-Robots-Tag:noindex
X-PUBLISHED-TTL:PT1H
BEGIN:VTIMEZONE
TZID:America/Los_Angeles
BEGIN:DAYLIGHT
TZOFFSETFROM:-0800
TZOFFSETTO:-0700
TZNAME:PDT
DTSTART:20250309T100000
END:DAYLIGHT
BEGIN:STANDARD
TZOFFSETFROM:-0700
TZOFFSETTO:-0800
TZNAME:PST
DTSTART:20251102T090000
END:STANDARD
BEGIN:DAYLIGHT
TZOFFSETFROM:-0800
TZOFFSETTO:-0700
TZNAME:PDT
DTSTART:20260308T100000
END:DAYLIGHT
BEGIN:STANDARD
TZOFFSETFROM:-0700
TZOFFSETTO:-0800
TZNAME:PST
DTSTART:20261101T090000
END:STANDARD
BEGIN:DAYLIGHT
TZOFFSETFROM:-0800
TZOFFSETTO:-0700
TZNAME:PDT
DTSTART:20270314T100000
END:DAYLIGHT
BEGIN:STANDARD
TZOFFSETFROM:-0700
TZOFFSETTO:-0800
TZNAME:PST
DTSTART:20271107T090000
END:STANDARD
END:VTIMEZONE
BEGIN:VEVENT
DTSTART;TZID=America/Los_Angeles:20260321T190000
DTEND;TZID=America/Los_Angeles:20260321T230000
DTSTAMP:20260422T110051
CREATED:20260313T171250Z
LAST-MODIFIED:20260313T171250Z
UID:10000080-1774119600-1774134000@melkonimedia.com
SUMMARY:Le Blue Royale Alex and Rose Pilibos Armenian School Gala
DESCRIPTION:Join the the Alex and Rose Pilibos Armenian School community for Le Bleu Royale\, the school’s signature event of the year — a special evening in lieu of our traditional gala\, bringing our community together for a night of fun\, connection\, and support for our beloved school. \n📅 March 21\, 2026 \n📍 Gravitas — Beverly Hills (exclusive members-only venue) \nEnjoy a curated culinary experience\, full premium open bar\, exciting gaming tables\, and an unforgettable evening with friends and community. Come mingle\, celebrate\, and try your luck — all while supporting a meaningful cause for our school. \n🎟 Tickets are limited and almost sold out!
URL:https://melkonimedia.com/event/le-blue-royale-alex-and-rose-pilibos-armenian-school-gala/
LOCATION:Gravitas Social Club\, 435 N Camden Drive\, Beverly Hills\, CA\, 90210\, United States
CATEGORIES:gala
ATTACH;FMTTYPE=image/jpeg:https://melkonimedia.com/wp-content/uploads/2026/03/IMG_7575.jpeg
END:VEVENT
BEGIN:VEVENT
DTSTART;TZID=America/Los_Angeles:20260107T180000
DTEND;TZID=America/Los_Angeles:20260107T233000
DTSTAMP:20260422T110051
CREATED:20251231T015733Z
LAST-MODIFIED:20251231T020448Z
UID:10000002-1767808800-1767828600@melkonimedia.com
SUMMARY:Walking with Alex Foundation Launch Party
DESCRIPTION:Walking with Alex Foundation hosts their official launch event in Beverly Hills in support of children with autism in Armenia and Lebanon.
URL:https://melkonimedia.com/event/walking-with-alex-foundation-launch-party/
LOCATION:Gravitas Social Club\, 435 N Camden Drive\, Beverly Hills\, CA\, 90210\, United States
CATEGORIES:fundraiser
ATTACH;FMTTYPE=image/svg+xml:https://melkonimedia.com/wp-content/uploads/2025/12/walking-with-alex-logo-dark-1.svg
END:VEVENT
END:VCALENDAR