BEGIN:VCALENDAR
VERSION:2.0
PRODID:-//Melkoni Media - ECPv6.15.20//NONSGML v1.0//EN
CALSCALE:GREGORIAN
METHOD:PUBLISH
X-WR-CALNAME:Melkoni Media
X-ORIGINAL-URL:https://melkonimedia.com
X-WR-CALDESC:Events for Melkoni Media
REFRESH-INTERVAL;VALUE=DURATION:PT1H
X-Robots-Tag:noindex
X-PUBLISHED-TTL:PT1H
BEGIN:VTIMEZONE
TZID:America/Los_Angeles
BEGIN:DAYLIGHT
TZOFFSETFROM:-0800
TZOFFSETTO:-0700
TZNAME:PDT
DTSTART:20250309T100000
END:DAYLIGHT
BEGIN:STANDARD
TZOFFSETFROM:-0700
TZOFFSETTO:-0800
TZNAME:PST
DTSTART:20251102T090000
END:STANDARD
BEGIN:DAYLIGHT
TZOFFSETFROM:-0800
TZOFFSETTO:-0700
TZNAME:PDT
DTSTART:20260308T100000
END:DAYLIGHT
BEGIN:STANDARD
TZOFFSETFROM:-0700
TZOFFSETTO:-0800
TZNAME:PST
DTSTART:20261101T090000
END:STANDARD
BEGIN:DAYLIGHT
TZOFFSETFROM:-0800
TZOFFSETTO:-0700
TZNAME:PDT
DTSTART:20270314T100000
END:DAYLIGHT
BEGIN:STANDARD
TZOFFSETFROM:-0700
TZOFFSETTO:-0800
TZNAME:PST
DTSTART:20271107T090000
END:STANDARD
END:VTIMEZONE
BEGIN:VEVENT
DTSTART;TZID=America/Los_Angeles:20260207T200000
DTEND;TZID=America/Los_Angeles:20260208T030000
DTSTAMP:20260422T123542
CREATED:20260128T051703Z
LAST-MODIFIED:20260128T051703Z
UID:10000039-1770494400-1770519600@melkonimedia.com
SUMMARY:HYE House Kef Time in Brooklyn
DESCRIPTION:JOIN HYE HOUSE FOR KEF TIME BROOKLYN.\nBigger Venue. Bigger Party. \nLive Music from ARMADI TSAYN | DJ Sets | Dancing | Kef \nA nighttime event you don’t want to miss. Bringing talented Armenian musicians and DJs to an elevated contemporary setting in Brooklyn. The night will start off with a live Armenian folk band\, followed by DJs to carry the energy through the evening. While the experience is inspired by Armenian culture\, it’s intentionally open to all\, reflecting the diverse scenes and communities Hye House is deeply connected to. \n 
URL:https://melkonimedia.com/event/hye-house-kef-time-in-brooklyn/
LOCATION:Hye House
CATEGORIES:Dance
ATTACH;FMTTYPE=image/jpeg:https://melkonimedia.com/wp-content/uploads/2026/01/IMG_4972.jpeg
END:VEVENT
END:VCALENDAR