BEGIN:VCALENDAR
VERSION:2.0
PRODID:-//Melkoni Media - ECPv6.15.20//NONSGML v1.0//EN
CALSCALE:GREGORIAN
METHOD:PUBLISH
X-WR-CALNAME:Melkoni Media
X-ORIGINAL-URL:https://melkonimedia.com
X-WR-CALDESC:Events for Melkoni Media
REFRESH-INTERVAL;VALUE=DURATION:PT1H
X-Robots-Tag:noindex
X-PUBLISHED-TTL:PT1H
BEGIN:VTIMEZONE
TZID:America/Los_Angeles
BEGIN:DAYLIGHT
TZOFFSETFROM:-0800
TZOFFSETTO:-0700
TZNAME:PDT
DTSTART:20250309T100000
END:DAYLIGHT
BEGIN:STANDARD
TZOFFSETFROM:-0700
TZOFFSETTO:-0800
TZNAME:PST
DTSTART:20251102T090000
END:STANDARD
BEGIN:DAYLIGHT
TZOFFSETFROM:-0800
TZOFFSETTO:-0700
TZNAME:PDT
DTSTART:20260308T100000
END:DAYLIGHT
BEGIN:STANDARD
TZOFFSETFROM:-0700
TZOFFSETTO:-0800
TZNAME:PST
DTSTART:20261101T090000
END:STANDARD
BEGIN:DAYLIGHT
TZOFFSETFROM:-0800
TZOFFSETTO:-0700
TZNAME:PDT
DTSTART:20270314T100000
END:DAYLIGHT
BEGIN:STANDARD
TZOFFSETFROM:-0700
TZOFFSETTO:-0800
TZNAME:PST
DTSTART:20271107T090000
END:STANDARD
END:VTIMEZONE
BEGIN:VEVENT
DTSTART;TZID=America/Los_Angeles:20260601T090000
DTEND;TZID=America/Los_Angeles:20260601T170000
DTSTAMP:20260422T093853
CREATED:20260408T043200Z
LAST-MODIFIED:20260408T043200Z
UID:10000118-1780304400-1780333200@melkonimedia.com
SUMMARY:1st Annual Armenian American Museum Golf Classic
DESCRIPTION:Limited Space Available! Sign up for the 1st Annual Armenian American Museum Golf Classic to enjoy breakfast upon arrival\, a putting contest\, raffle opportunities\, lunch\, drinks\, and a closing dinner reception to celebrate the day! ⛳️ RSVP Link in Bio!
URL:https://melkonimedia.com/event/1st-annual-armenian-american-museum-golf-classic/
LOCATION:La Canada Flintridge Country Club\, 5500 Godbey Dr\, La Canada Flintridge\, ca\, 91011
CATEGORIES:fundraiser,Golf
ATTACH;FMTTYPE=image/jpeg:https://melkonimedia.com/wp-content/uploads/2026/04/Screenshot-2026-04-07-212910.jpg
END:VEVENT
END:VCALENDAR