BEGIN:VCALENDAR
VERSION:2.0
PRODID:-//Melkoni Media - ECPv6.15.20//NONSGML v1.0//EN
CALSCALE:GREGORIAN
METHOD:PUBLISH
X-ORIGINAL-URL:https://melkonimedia.com
X-WR-CALDESC:Events for Melkoni Media
REFRESH-INTERVAL;VALUE=DURATION:PT1H
X-Robots-Tag:noindex
X-PUBLISHED-TTL:PT1H
BEGIN:VTIMEZONE
TZID:America/Los_Angeles
BEGIN:DAYLIGHT
TZOFFSETFROM:-0800
TZOFFSETTO:-0700
TZNAME:PDT
DTSTART:20250309T100000
END:DAYLIGHT
BEGIN:STANDARD
TZOFFSETFROM:-0700
TZOFFSETTO:-0800
TZNAME:PST
DTSTART:20251102T090000
END:STANDARD
BEGIN:DAYLIGHT
TZOFFSETFROM:-0800
TZOFFSETTO:-0700
TZNAME:PDT
DTSTART:20260308T100000
END:DAYLIGHT
BEGIN:STANDARD
TZOFFSETFROM:-0700
TZOFFSETTO:-0800
TZNAME:PST
DTSTART:20261101T090000
END:STANDARD
BEGIN:DAYLIGHT
TZOFFSETFROM:-0800
TZOFFSETTO:-0700
TZNAME:PDT
DTSTART:20270314T100000
END:DAYLIGHT
BEGIN:STANDARD
TZOFFSETFROM:-0700
TZOFFSETTO:-0800
TZNAME:PST
DTSTART:20271107T090000
END:STANDARD
END:VTIMEZONE
BEGIN:VEVENT
DTSTART;TZID=America/Los_Angeles:20260222T180000
DTEND;TZID=America/Los_Angeles:20260222T220000
DTSTAMP:20260422T141732
CREATED:20260118T040140Z
LAST-MODIFIED:20260118T040140Z
UID:10000029-1771783200-1771797600@melkonimedia.com
SUMMARY:Full House Landing Film Screening in Washington DC
DESCRIPTION:Full House returns with a brand-new Armenian comedy movie\, reuniting fan-favorite characters for a wild\, laugh-filled big-screen adventure. \nA group of friends traveling to Dubai for different reasons unexpectedly end up on the same flight\, and a sudden twist sends them into a remote forest where they must face a chaotic adventure together.
URL:https://melkonimedia.com/event/full-house-landing-film-screening-in-washington-dc/
LOCATION:Look Cinema Tyson at the Boro\, 1667 Silver Hill Dr\, McLean\, VA\, 22102\, United States
CATEGORIES:film screening
ATTACH;FMTTYPE=image/jpeg:https://melkonimedia.com/wp-content/uploads/2026/01/3F1946ED-C6E2-445C-ADFD-E5A95568070D.jpg
END:VEVENT
END:VCALENDAR