BEGIN:VCALENDAR
VERSION:2.0
PRODID:-//Melkoni Media - ECPv6.15.20//NONSGML v1.0//EN
CALSCALE:GREGORIAN
METHOD:PUBLISH
X-ORIGINAL-URL:https://melkonimedia.com
X-WR-CALDESC:Events for Melkoni Media
REFRESH-INTERVAL;VALUE=DURATION:PT1H
X-Robots-Tag:noindex
X-PUBLISHED-TTL:PT1H
BEGIN:VTIMEZONE
TZID:America/Los_Angeles
BEGIN:DAYLIGHT
TZOFFSETFROM:-0800
TZOFFSETTO:-0700
TZNAME:PDT
DTSTART:20250309T100000
END:DAYLIGHT
BEGIN:STANDARD
TZOFFSETFROM:-0700
TZOFFSETTO:-0800
TZNAME:PST
DTSTART:20251102T090000
END:STANDARD
BEGIN:DAYLIGHT
TZOFFSETFROM:-0800
TZOFFSETTO:-0700
TZNAME:PDT
DTSTART:20260308T100000
END:DAYLIGHT
BEGIN:STANDARD
TZOFFSETFROM:-0700
TZOFFSETTO:-0800
TZNAME:PST
DTSTART:20261101T090000
END:STANDARD
BEGIN:DAYLIGHT
TZOFFSETFROM:-0800
TZOFFSETTO:-0700
TZNAME:PDT
DTSTART:20270314T100000
END:DAYLIGHT
BEGIN:STANDARD
TZOFFSETFROM:-0700
TZOFFSETTO:-0800
TZNAME:PST
DTSTART:20271107T090000
END:STANDARD
END:VTIMEZONE
BEGIN:VEVENT
DTSTART;TZID=America/Los_Angeles:20260226T180000
DTEND;TZID=America/Los_Angeles:20260226T210000
DTSTAMP:20260422T141608
CREATED:20260206T063920Z
LAST-MODIFIED:20260206T063920Z
UID:10000044-1772128800-1772139600@melkonimedia.com
SUMMARY:Dirty Drugs - The Crisis of Addiction and Overdose Film Screening at Look Cinema in Glendale
DESCRIPTION:An upcoming community film screening and panel discussion focused on the challenges individuals and families face with substance-use disorder. \nThis collaborative effort between the Glendale Police Department’s Substance Abuse and Wellness Resource Program and the City of Glendale is intended to create a safe space for an honest conversation\, while emphasizing that recovery is possible and support services are available. \nThis event has reached capacity. You may join the waitlist\, and we will notify registrants in the order received if space becomes available.
URL:https://melkonimedia.com/event/dirty-drugs-the-crisis-of-addiction-and-overdose-film-screening-at-look-cinema-in-glendale/
LOCATION:look cinema
CATEGORIES:film screening
ATTACH;FMTTYPE=image/jpeg:https://melkonimedia.com/wp-content/uploads/2026/02/8FD8D796-07F2-4ED7-B3FA-10CD51CC3295.jpg
END:VEVENT
END:VCALENDAR