BEGIN:VCALENDAR
VERSION:2.0
PRODID:-//Melkoni Media - ECPv6.15.20//NONSGML v1.0//EN
CALSCALE:GREGORIAN
METHOD:PUBLISH
X-ORIGINAL-URL:https://melkonimedia.com
X-WR-CALDESC:Events for Melkoni Media
REFRESH-INTERVAL;VALUE=DURATION:PT1H
X-Robots-Tag:noindex
X-PUBLISHED-TTL:PT1H
BEGIN:VTIMEZONE
TZID:America/Los_Angeles
BEGIN:DAYLIGHT
TZOFFSETFROM:-0800
TZOFFSETTO:-0700
TZNAME:PDT
DTSTART:20250309T100000
END:DAYLIGHT
BEGIN:STANDARD
TZOFFSETFROM:-0700
TZOFFSETTO:-0800
TZNAME:PST
DTSTART:20251102T090000
END:STANDARD
BEGIN:DAYLIGHT
TZOFFSETFROM:-0800
TZOFFSETTO:-0700
TZNAME:PDT
DTSTART:20260308T100000
END:DAYLIGHT
BEGIN:STANDARD
TZOFFSETFROM:-0700
TZOFFSETTO:-0800
TZNAME:PST
DTSTART:20261101T090000
END:STANDARD
BEGIN:DAYLIGHT
TZOFFSETFROM:-0800
TZOFFSETTO:-0700
TZNAME:PDT
DTSTART:20270314T100000
END:DAYLIGHT
BEGIN:STANDARD
TZOFFSETFROM:-0700
TZOFFSETTO:-0800
TZNAME:PST
DTSTART:20271107T090000
END:STANDARD
END:VTIMEZONE
BEGIN:VEVENT
DTSTART;TZID=America/Los_Angeles:20260425T180000
DTEND;TZID=America/Los_Angeles:20260425T203000
DTSTAMP:20260422T063626
CREATED:20260413T211923Z
LAST-MODIFIED:20260414T163338Z
UID:10000120-1777140000-1777149000@melkonimedia.com
SUMMARY:My Secret Garden: Artist of the Month – Yeva Babayan Exhibition at Lusanet
DESCRIPTION:Discover botanical fine art by Yeva Babayan at Lusanet’s Grand Re-Opening. Exhibition open March 25–April 30. RSVP for closing reception. \n\n\n\n\nStep into My Secret Garden\, a captivating exhibition by Artist of the Month\, Yeva Babayan\, presented at Lusanet Collective during our Grand Re-Opening celebration. \nBlending photography and fine art painting\, Yeva’s work introduces a unique medium where real botanicals—leaves\, branches\, and petals—are carefully arranged and scanned\, then enhanced with hand-painted acrylic details. The result is a stunning hybrid of nature and art\, creating deeply expressive\, organic compositions. \nThis collection explores human emotion through natural forms\, transforming plants into visual storytelling—symbolizing joy\, curiosity\, vitality\, and calm. In select works\, botanical elements are layered over delicate female silhouettes\, forming poetic portraits that reflect the depth and complexity of womanhood. \n✨ Exhibition Dates: March 25 – April 30\n✨ Location: Lusanet Collective\, Downtown Burbank\n✨ All artwork available for purchase \n🎉 Closing Reception:\nApril 25 | 6:00 PM – 8:30 PM\nJoin us for an intimate evening to meet the artist\, experience the collection\, and celebrate the final days of the exhibition. \nCome for the Grand Re-Opening\, stay for the art\, and discover a collection that lives between nature\, emotion\, and expression.
URL:https://melkonimedia.com/event/my-secret-garden-artist-of-the-month-yeva-babayan-exhibition-at-lusanet/
LOCATION:Lusanet Collective\, Downtown Burbank\, 140 N. San Fernando Blvd\, Burbank\, ca\, 91502
CATEGORIES:art exhibition,Grand Opening
ATTACH;FMTTYPE=image/jpeg:https://melkonimedia.com/wp-content/uploads/2026/04/60B78EC9-B407-4F0D-8953-1906CCD1D1F3.JPG.jpeg
END:VEVENT
END:VCALENDAR