BEGIN:VCALENDAR
VERSION:2.0
PRODID:-//Melkoni Media - ECPv6.15.20//NONSGML v1.0//EN
CALSCALE:GREGORIAN
METHOD:PUBLISH
X-WR-CALNAME:Melkoni Media
X-ORIGINAL-URL:https://melkonimedia.com
X-WR-CALDESC:Events for Melkoni Media
REFRESH-INTERVAL;VALUE=DURATION:PT1H
X-Robots-Tag:noindex
X-PUBLISHED-TTL:PT1H
BEGIN:VTIMEZONE
TZID:America/Los_Angeles
BEGIN:DAYLIGHT
TZOFFSETFROM:-0800
TZOFFSETTO:-0700
TZNAME:PDT
DTSTART:20250309T100000
END:DAYLIGHT
BEGIN:STANDARD
TZOFFSETFROM:-0700
TZOFFSETTO:-0800
TZNAME:PST
DTSTART:20251102T090000
END:STANDARD
BEGIN:DAYLIGHT
TZOFFSETFROM:-0800
TZOFFSETTO:-0700
TZNAME:PDT
DTSTART:20260308T100000
END:DAYLIGHT
BEGIN:STANDARD
TZOFFSETFROM:-0700
TZOFFSETTO:-0800
TZNAME:PST
DTSTART:20261101T090000
END:STANDARD
BEGIN:DAYLIGHT
TZOFFSETFROM:-0800
TZOFFSETTO:-0700
TZNAME:PDT
DTSTART:20270314T100000
END:DAYLIGHT
BEGIN:STANDARD
TZOFFSETFROM:-0700
TZOFFSETTO:-0800
TZNAME:PST
DTSTART:20271107T090000
END:STANDARD
END:VTIMEZONE
BEGIN:VEVENT
DTSTART;TZID=America/Los_Angeles:20260311T190000
DTEND;TZID=America/Los_Angeles:20260311T210000
DTSTAMP:20260422T081339
CREATED:20260309T164613Z
LAST-MODIFIED:20260309T164613Z
UID:10000075-1773255600-1773262800@melkonimedia.com
SUMMARY:Armenian Vinyl Night at Momed
DESCRIPTION:Join Momed restaurant and Peter Bahlawanian from Peko Records as he spins vintage Armenian vinyl classics! \n🍸 And enjoy happy hour at their bar with our: \n• $35 3-course Neighborhood Supper Menu \n• $10 martinis \n• $9 cocktails and more! \nMomed | Modern Mediterranean Restaurant \n📍 Atwater Village\, Los Angeles
URL:https://melkonimedia.com/event/armenian-vinyl-night-at-momed/
LOCATION:momed restaurant\, 3245 Casitas Ave\, Atwater Village\, CA\, 90039\, United States
CATEGORIES:social mixer
ATTACH;FMTTYPE=image/jpeg:https://melkonimedia.com/wp-content/uploads/2026/03/IMG_7447.jpeg
END:VEVENT
END:VCALENDAR