BEGIN:VCALENDAR
VERSION:2.0
PRODID:-//Melkoni Media - ECPv6.15.20//NONSGML v1.0//EN
CALSCALE:GREGORIAN
METHOD:PUBLISH
X-WR-CALNAME:Melkoni Media
X-ORIGINAL-URL:https://melkonimedia.com
X-WR-CALDESC:Events for Melkoni Media
REFRESH-INTERVAL;VALUE=DURATION:PT1H
X-Robots-Tag:noindex
X-PUBLISHED-TTL:PT1H
BEGIN:VTIMEZONE
TZID:America/Los_Angeles
BEGIN:DAYLIGHT
TZOFFSETFROM:-0800
TZOFFSETTO:-0700
TZNAME:PDT
DTSTART:20250309T100000
END:DAYLIGHT
BEGIN:STANDARD
TZOFFSETFROM:-0700
TZOFFSETTO:-0800
TZNAME:PST
DTSTART:20251102T090000
END:STANDARD
BEGIN:DAYLIGHT
TZOFFSETFROM:-0800
TZOFFSETTO:-0700
TZNAME:PDT
DTSTART:20260308T100000
END:DAYLIGHT
BEGIN:STANDARD
TZOFFSETFROM:-0700
TZOFFSETTO:-0800
TZNAME:PST
DTSTART:20261101T090000
END:STANDARD
BEGIN:DAYLIGHT
TZOFFSETFROM:-0800
TZOFFSETTO:-0700
TZNAME:PDT
DTSTART:20270314T100000
END:DAYLIGHT
BEGIN:STANDARD
TZOFFSETFROM:-0700
TZOFFSETTO:-0800
TZNAME:PST
DTSTART:20271107T090000
END:STANDARD
END:VTIMEZONE
BEGIN:VEVENT
DTSTART;TZID=America/Los_Angeles:20260222T100000
DTEND;TZID=America/Los_Angeles:20260222T140000
DTSTAMP:20260422T123456
CREATED:20260206T070048Z
LAST-MODIFIED:20260206T070113Z
UID:10000048-1771754400-1771768800@melkonimedia.com
SUMMARY:RTUN Rave at Mya Rooftop
DESCRIPTION:RTUN RAVE returns for its second edition — a daytime gathering rooted in Armenian culture\, creativity\, and community. Hosted at Mya Rooftop\, perched atop the Glenmark Hotel\, this elevated setting brings together sound\, coffee\, art\, and human connection above the city of Glendale. \n🎧 Music + DJs \nA curated sound journey blending electronic\, folk\, and experimental influences — designed to move fluidly through the space from morning to afternoon. Live DJ sets throughout the day featuring Armenian and diaspora talent.
URL:https://melkonimedia.com/event/rtun-rave-at-mya-rooftop/
LOCATION:Mya Rooftop
CATEGORIES:Dance
ATTACH;FMTTYPE=image/jpeg:https://melkonimedia.com/wp-content/uploads/2026/02/IMG_5446.jpeg
END:VEVENT
END:VCALENDAR