BEGIN:VCALENDAR
VERSION:2.0
PRODID:-//Melkoni Media - ECPv6.15.20//NONSGML v1.0//EN
CALSCALE:GREGORIAN
METHOD:PUBLISH
X-WR-CALNAME:Melkoni Media
X-ORIGINAL-URL:https://melkonimedia.com
X-WR-CALDESC:Events for Melkoni Media
REFRESH-INTERVAL;VALUE=DURATION:PT1H
X-Robots-Tag:noindex
X-PUBLISHED-TTL:PT1H
BEGIN:VTIMEZONE
TZID:America/Los_Angeles
BEGIN:DAYLIGHT
TZOFFSETFROM:-0800
TZOFFSETTO:-0700
TZNAME:PDT
DTSTART:20250309T100000
END:DAYLIGHT
BEGIN:STANDARD
TZOFFSETFROM:-0700
TZOFFSETTO:-0800
TZNAME:PST
DTSTART:20251102T090000
END:STANDARD
BEGIN:DAYLIGHT
TZOFFSETFROM:-0800
TZOFFSETTO:-0700
TZNAME:PDT
DTSTART:20260308T100000
END:DAYLIGHT
BEGIN:STANDARD
TZOFFSETFROM:-0700
TZOFFSETTO:-0800
TZNAME:PST
DTSTART:20261101T090000
END:STANDARD
BEGIN:DAYLIGHT
TZOFFSETFROM:-0800
TZOFFSETTO:-0700
TZNAME:PDT
DTSTART:20270314T100000
END:DAYLIGHT
BEGIN:STANDARD
TZOFFSETFROM:-0700
TZOFFSETTO:-0800
TZNAME:PST
DTSTART:20271107T090000
END:STANDARD
END:VTIMEZONE
BEGIN:VEVENT
DTSTART;TZID=America/Los_Angeles:20260503T100000
DTEND;TZID=America/Los_Angeles:20260503T170000
DTSTAMP:20260422T093744
CREATED:20260408T034439Z
LAST-MODIFIED:20260408T034439Z
UID:10000108-1777802400-1777827600@melkonimedia.com
SUMMARY:Arev Armenian Wellness Festival for Kids and Families
DESCRIPTION:We are excited to announce the Arev Armenian Wellness Festival for Kids and Families – a free\, community-driven event taking place on May 3\, 2026. \nIs your child struggling with speech\, social communication\, bullying\, low self-confidence\, screen addiction\, or adapting to new environments?  Finding it hard to put down their phone or step away from screens? \nAt the Arev Festival\, renowned psychologists and specialists will address these challenges\, free of charge. \n✨ What to Expect:\n•🎤 Seminars with Q&A\, designed for parents\n•🎨 Engaging activities in art\, science\, cooking\, each designed to highlight their therapeutic benefits \n•🎭 Live Stage Program featuring dances and songs celebrating Armenian culture \nThe Arev Festival is a collaboration between Urartu Inc — home of the Oolik and Armenian Kids Festival initiatives — and the Los Angeles County Department of Mental Health. \nAdmission is FREE. All are welcome! \nRegister\, Choose your seminar. Win amazing gifts.\nwww.armeniankidsfestival.com. \n📍 501 S Pacific Ave\, Glendale\, CA 91204.  📅 May 3\, 2026
URL:https://melkonimedia.com/event/arev-armenian-wellness-festival-for-kids-and-families/
LOCATION:Pacific Community Center & Park\, 501 S Pacific Ave\, Glendale\, ca\, 91204
CATEGORIES:festival
ATTACH;FMTTYPE=image/jpeg:https://melkonimedia.com/wp-content/uploads/2026/04/arev.jpg
END:VEVENT
END:VCALENDAR