BEGIN:VCALENDAR
VERSION:2.0
PRODID:-//Melkoni Media - ECPv6.15.20//NONSGML v1.0//EN
CALSCALE:GREGORIAN
METHOD:PUBLISH
X-ORIGINAL-URL:https://melkonimedia.com
X-WR-CALDESC:Events for Melkoni Media
REFRESH-INTERVAL;VALUE=DURATION:PT1H
X-Robots-Tag:noindex
X-PUBLISHED-TTL:PT1H
BEGIN:VTIMEZONE
TZID:America/Los_Angeles
BEGIN:DAYLIGHT
TZOFFSETFROM:-0800
TZOFFSETTO:-0700
TZNAME:PDT
DTSTART:20250309T100000
END:DAYLIGHT
BEGIN:STANDARD
TZOFFSETFROM:-0700
TZOFFSETTO:-0800
TZNAME:PST
DTSTART:20251102T090000
END:STANDARD
BEGIN:DAYLIGHT
TZOFFSETFROM:-0800
TZOFFSETTO:-0700
TZNAME:PDT
DTSTART:20260308T100000
END:DAYLIGHT
BEGIN:STANDARD
TZOFFSETFROM:-0700
TZOFFSETTO:-0800
TZNAME:PST
DTSTART:20261101T090000
END:STANDARD
BEGIN:DAYLIGHT
TZOFFSETFROM:-0800
TZOFFSETTO:-0700
TZNAME:PDT
DTSTART:20270314T100000
END:DAYLIGHT
BEGIN:STANDARD
TZOFFSETFROM:-0700
TZOFFSETTO:-0800
TZNAME:PST
DTSTART:20271107T090000
END:STANDARD
END:VTIMEZONE
BEGIN:VEVENT
DTSTART;TZID=America/Los_Angeles:20260522T193000
DTEND;TZID=America/Los_Angeles:20260522T233000
DTSTAMP:20260422T093911
CREATED:20260413T221237Z
LAST-MODIFIED:20260413T221237Z
UID:10000127-1779478200-1779492600@melkonimedia.com
SUMMARY:Aznavour in Armenian
DESCRIPTION:Join us in celebrating Aznavour’s Legacy on His 102nd Birthday. \nBerge Turabian and Alvard Mayilyan duet performing Aznavour in Armenian is a breath of a fresh air for Armenian speaking audience. Berge Turabia’s contribution to making Charles Aznavour’s songs accessible to Armenian listeners is invaluable. Turabian skillfully and carefully conveys into Armenian the poetic charm of Aznavour\, as well as the meaning \, subtleties and imagery of the chansonnier’s songs.   Berge also had the good fortune to know\, meet and speak with Aznavour on several occasions and was praised by Aznavour for his work with the translation of Aznavour’s original songs.
URL:https://melkonimedia.com/event/aznavour-in-armenian/
LOCATION:Saint Peter Armenian Apostolic Church – Karagyozian Hall\, 17231 Sherman Way\, Van Nuys\, ca\, 91406
CATEGORIES:Cultural Show,Music,Performance
ATTACH;FMTTYPE=image/jpeg:https://melkonimedia.com/wp-content/uploads/2026/04/Screenshot-2026-04-13-150846.jpg
END:VEVENT
END:VCALENDAR