BEGIN:VCALENDAR
VERSION:2.0
PRODID:-//Melkoni Media - ECPv6.15.20//NONSGML v1.0//EN
CALSCALE:GREGORIAN
METHOD:PUBLISH
X-WR-CALNAME:Melkoni Media
X-ORIGINAL-URL:https://melkonimedia.com
X-WR-CALDESC:Events for Melkoni Media
REFRESH-INTERVAL;VALUE=DURATION:PT1H
X-Robots-Tag:noindex
X-PUBLISHED-TTL:PT1H
BEGIN:VTIMEZONE
TZID:America/Los_Angeles
BEGIN:DAYLIGHT
TZOFFSETFROM:-0800
TZOFFSETTO:-0700
TZNAME:PDT
DTSTART:20250309T100000
END:DAYLIGHT
BEGIN:STANDARD
TZOFFSETFROM:-0700
TZOFFSETTO:-0800
TZNAME:PST
DTSTART:20251102T090000
END:STANDARD
BEGIN:DAYLIGHT
TZOFFSETFROM:-0800
TZOFFSETTO:-0700
TZNAME:PDT
DTSTART:20260308T100000
END:DAYLIGHT
BEGIN:STANDARD
TZOFFSETFROM:-0700
TZOFFSETTO:-0800
TZNAME:PST
DTSTART:20261101T090000
END:STANDARD
BEGIN:DAYLIGHT
TZOFFSETFROM:-0800
TZOFFSETTO:-0700
TZNAME:PDT
DTSTART:20270314T100000
END:DAYLIGHT
BEGIN:STANDARD
TZOFFSETFROM:-0700
TZOFFSETTO:-0800
TZNAME:PST
DTSTART:20271107T090000
END:STANDARD
END:VTIMEZONE
BEGIN:VEVENT
DTSTART;TZID=America/Los_Angeles:20260205T190000
DTEND;TZID=America/Los_Angeles:20260205T210000
DTSTAMP:20260422T125047
CREATED:20260128T044413Z
LAST-MODIFIED:20260128T044413Z
UID:10000036-1770318000-1770325200@melkonimedia.com
SUMMARY:Armenian Speed Dating at Urartu Cafe in Glendale
DESCRIPTION:Introducing Armenian Speed Dating Night at Urartu Coffee ♥️ \nFebruary 5 submissions: CLOSED \nFebruary 19: OPEN  \nA speed round of introductions and conversations for you to get to know each other and potentially meet a match!  \nThis event is for 20 singles—10 men and 10 women—who are ready for something real and looking for a long-term relationship. \nThey’’ll be providing an optional questionnaire to help facilitate conversations\, as well as an Armenian coffee or tea! Come meet the love of your life at your favorite local cafe!
URL:https://melkonimedia.com/event/armenian-speed-dating-at-urartu-cafe-in-glendale/
LOCATION:Urartu Cafe\, 119 Artsakh Ave\, Glendale\, CA\, 91210\, United States
CATEGORIES:community gathering
ATTACH;FMTTYPE=image/jpeg:https://melkonimedia.com/wp-content/uploads/2026/01/IMG_4970.jpeg
END:VEVENT
END:VCALENDAR