BEGIN:VCALENDAR
VERSION:2.0
PRODID:-//Melkoni Media - ECPv6.15.20//NONSGML v1.0//EN
CALSCALE:GREGORIAN
METHOD:PUBLISH
X-WR-CALNAME:Melkoni Media
X-ORIGINAL-URL:https://melkonimedia.com
X-WR-CALDESC:Events for Melkoni Media
REFRESH-INTERVAL;VALUE=DURATION:PT1H
X-Robots-Tag:noindex
X-PUBLISHED-TTL:PT1H
BEGIN:VTIMEZONE
TZID:America/Los_Angeles
BEGIN:DAYLIGHT
TZOFFSETFROM:-0800
TZOFFSETTO:-0700
TZNAME:PDT
DTSTART:20250309T100000
END:DAYLIGHT
BEGIN:STANDARD
TZOFFSETFROM:-0700
TZOFFSETTO:-0800
TZNAME:PST
DTSTART:20251102T090000
END:STANDARD
BEGIN:DAYLIGHT
TZOFFSETFROM:-0800
TZOFFSETTO:-0700
TZNAME:PDT
DTSTART:20260308T100000
END:DAYLIGHT
BEGIN:STANDARD
TZOFFSETFROM:-0700
TZOFFSETTO:-0800
TZNAME:PST
DTSTART:20261101T090000
END:STANDARD
BEGIN:DAYLIGHT
TZOFFSETFROM:-0800
TZOFFSETTO:-0700
TZNAME:PDT
DTSTART:20270314T100000
END:DAYLIGHT
BEGIN:STANDARD
TZOFFSETFROM:-0700
TZOFFSETTO:-0800
TZNAME:PST
DTSTART:20271107T090000
END:STANDARD
END:VTIMEZONE
BEGIN:VEVENT
DTSTART;TZID=America/Los_Angeles:20260329T120000
DTEND;TZID=America/Los_Angeles:20260329T170000
DTSTAMP:20260422T123521
CREATED:20260309T162538Z
LAST-MODIFIED:20260309T162538Z
UID:10000073-1774785600-1774803600@melkonimedia.com
SUMMARY:Tsakhkazard Kids Festival
DESCRIPTION:The 4th Annual Tsakhkazard Kids Festival\, a vibrant celebration for children across the Greater Los Angeles area\, is here and taking place on March 29 at Verdugo Park in Glendale. \nInspired by Tsakhkazard (Palm Sunday)\, one of Armenia’s most cherished holidays\, this festival has blossomed 🌿 from a dream into one of LA County’s most beloved family events. Since 2023\, over 5\,000 kids and parents have joined us — and this year? We’re making it even BIGGER. 💥 \n🌸 What makes this festival unique? \n🎤 The stage belongs entirely to the KIDS. Choirs\, dance and art schools\, science clubs\, sports teams\, and both private and public schools come together for a joyful celebration of young talent. Your little ones don’t just watch… they SHINE. ⭐ \n🔬 Explore. Create. Discover. Interactive science experiments\, chess tournaments\, arts & crafts workshops\, and hands-on activities designed to spark that unstoppable curiosity kids are famous for. 🧩🎨♟️ \n🩺 Parents\, we’ve got you too! Free wellness resources and complimentary consultations with health professionals — because happy\, healthy families make the best festival-goers.
URL:https://melkonimedia.com/event/tsakhkazard-kids-festival/
LOCATION:Verdugo Park\, 1621 Canada Blvd\, Glendale\, 91201\, United States
CATEGORIES:festival
ATTACH;FMTTYPE=image/jpeg:https://melkonimedia.com/wp-content/uploads/2026/03/IMG_7443.jpeg
END:VEVENT
END:VCALENDAR