BEGIN:VCALENDAR
VERSION:2.0
PRODID:-//Melkoni Media - ECPv6.15.20//NONSGML v1.0//EN
CALSCALE:GREGORIAN
METHOD:PUBLISH
X-WR-CALNAME:Melkoni Media
X-ORIGINAL-URL:https://melkonimedia.com
X-WR-CALDESC:Events for Melkoni Media
REFRESH-INTERVAL;VALUE=DURATION:PT1H
X-Robots-Tag:noindex
X-PUBLISHED-TTL:PT1H
BEGIN:VTIMEZONE
TZID:America/Los_Angeles
BEGIN:DAYLIGHT
TZOFFSETFROM:-0800
TZOFFSETTO:-0700
TZNAME:PDT
DTSTART:20250309T100000
END:DAYLIGHT
BEGIN:STANDARD
TZOFFSETFROM:-0700
TZOFFSETTO:-0800
TZNAME:PST
DTSTART:20251102T090000
END:STANDARD
BEGIN:DAYLIGHT
TZOFFSETFROM:-0800
TZOFFSETTO:-0700
TZNAME:PDT
DTSTART:20260308T100000
END:DAYLIGHT
BEGIN:STANDARD
TZOFFSETFROM:-0700
TZOFFSETTO:-0800
TZNAME:PST
DTSTART:20261101T090000
END:STANDARD
BEGIN:DAYLIGHT
TZOFFSETFROM:-0800
TZOFFSETTO:-0700
TZNAME:PDT
DTSTART:20270314T100000
END:DAYLIGHT
BEGIN:STANDARD
TZOFFSETFROM:-0700
TZOFFSETTO:-0800
TZNAME:PST
DTSTART:20271107T090000
END:STANDARD
END:VTIMEZONE
BEGIN:VEVENT
DTSTART;TZID=America/Los_Angeles:20260122T190000
DTEND;TZID=America/Los_Angeles:20260122T210000
DTSTAMP:20260422T125044
CREATED:20260105T024158Z
LAST-MODIFIED:20260105T024327Z
UID:10000010-1769108400-1769115600@melkonimedia.com
SUMMARY:Taleen Voskuni's "Our Ex's Wedding" Book Signing & Q/A at Vroman's Bookstore in Pasadena
DESCRIPTION:Taleen Voskuni\, author of “Lavash at First Sight” and “Sorry\, Bro\,” will be at Vroman’s Bookstore in Pasadena to discuss her highly anticipated third romance novel\, “Our Ex’s Wedding” days after its release with Nona Melkonian. \nThe story follows two people who can’t stand each other who must come together to plan their mutual ex’s wedding.
URL:https://melkonimedia.com/event/taleen-voskuni-our-exs-wedding-book-signing-q-a-at-vromans-bookstore-in-pasadena/
LOCATION:Vroman’s Books\, 695 E. Colorado Blvd\, Pasadena\, 91101\, United States
CATEGORIES:book signing
ATTACH;FMTTYPE=image/png:https://melkonimedia.com/wp-content/uploads/2026/01/IMG_3384.png
END:VEVENT
END:VCALENDAR